BEGIN:VCALENDAR
VERSION:2.0
PRODID:-//Holy Cross Anglican Cathedral - ECPv6.15.20//NONSGML v1.0//EN
CALSCALE:GREGORIAN
METHOD:PUBLISH
X-WR-CALNAME:Holy Cross Anglican Cathedral
X-ORIGINAL-URL:https://hcanglican.org
X-WR-CALDESC:Events for Holy Cross Anglican Cathedral
REFRESH-INTERVAL;VALUE=DURATION:PT1H
X-Robots-Tag:noindex
X-PUBLISHED-TTL:PT1H
BEGIN:VTIMEZONE
TZID:America/New_York
BEGIN:DAYLIGHT
TZOFFSETFROM:-0500
TZOFFSETTO:-0400
TZNAME:EDT
DTSTART:20240310T070000
END:DAYLIGHT
BEGIN:STANDARD
TZOFFSETFROM:-0400
TZOFFSETTO:-0500
TZNAME:EST
DTSTART:20241103T060000
END:STANDARD
BEGIN:DAYLIGHT
TZOFFSETFROM:-0500
TZOFFSETTO:-0400
TZNAME:EDT
DTSTART:20250309T070000
END:DAYLIGHT
BEGIN:STANDARD
TZOFFSETFROM:-0400
TZOFFSETTO:-0500
TZNAME:EST
DTSTART:20251102T060000
END:STANDARD
BEGIN:DAYLIGHT
TZOFFSETFROM:-0500
TZOFFSETTO:-0400
TZNAME:EDT
DTSTART:20260308T070000
END:DAYLIGHT
BEGIN:STANDARD
TZOFFSETFROM:-0400
TZOFFSETTO:-0500
TZNAME:EST
DTSTART:20261101T060000
END:STANDARD
END:VTIMEZONE
BEGIN:VTIMEZONE
TZID:America/Chicago
BEGIN:DAYLIGHT
TZOFFSETFROM:-0600
TZOFFSETTO:-0500
TZNAME:CDT
DTSTART:20240310T080000
END:DAYLIGHT
BEGIN:STANDARD
TZOFFSETFROM:-0500
TZOFFSETTO:-0600
TZNAME:CST
DTSTART:20241103T070000
END:STANDARD
BEGIN:DAYLIGHT
TZOFFSETFROM:-0600
TZOFFSETTO:-0500
TZNAME:CDT
DTSTART:20250309T080000
END:DAYLIGHT
BEGIN:STANDARD
TZOFFSETFROM:-0500
TZOFFSETTO:-0600
TZNAME:CST
DTSTART:20251102T070000
END:STANDARD
BEGIN:DAYLIGHT
TZOFFSETFROM:-0600
TZOFFSETTO:-0500
TZNAME:CDT
DTSTART:20260308T080000
END:DAYLIGHT
BEGIN:STANDARD
TZOFFSETFROM:-0500
TZOFFSETTO:-0600
TZNAME:CST
DTSTART:20261101T070000
END:STANDARD
END:VTIMEZONE
BEGIN:VEVENT
DTSTART;TZID=America/New_York:20250501T090000
DTEND;TZID=America/New_York:20250501T120000
DTSTAMP:20260424T095512
CREATED:20241231T061411Z
LAST-MODIFIED:20250603T174213Z
UID:4010-1746090000-1746100800@hcanglican.org
SUMMARY:Parent's Day Out
DESCRIPTION:Holy Cross offers a two-day per week Parent’s Day Out program for children ages 1-4 on Tuesdays and Thursdays from 9:00 am through noon during the school year. In addition to serving families in our community\, we hope this ministry grows children in relationship with Jesus. During the summer\, PDO is one day a week on Tuesdays.
URL:https://hcanglican.org/event/parents-day-out-71/
LOCATION:GA
CATEGORIES:Children
END:VEVENT
BEGIN:VEVENT
DTSTART;TZID=America/New_York:20250502T120000
DTEND;TZID=America/New_York:20250502T123000
DTSTAMP:20260424T095512
CREATED:20241231T063009Z
LAST-MODIFIED:20241231T063009Z
UID:4086-1746187200-1746189000@hcanglican.org
SUMMARY:Stations of the Cross
DESCRIPTION:Open to everyone. Every Friday at noon.
URL:https://hcanglican.org/event/stations-of-the-cross-70/
LOCATION:Main Sanctuary\, 3836 Oak Grove Road\, Loganville\, GA\, 30052\, United States
CATEGORIES:Small Groups
END:VEVENT
BEGIN:VEVENT
DTSTART;TZID=America/New_York:20250503T073000
DTEND;TZID=America/New_York:20250503T090000
DTSTAMP:20260424T095512
CREATED:20241231T053409Z
LAST-MODIFIED:20241231T053409Z
UID:3815-1746257400-1746262800@hcanglican.org
SUMMARY:Loganville Group
DESCRIPTION:Men’s bible study. Meets at Haynes Creek Farm on Saturdays\, 7:30 to 9:00 am. Contact the church office for more information. parishadmin@hcanglican.org
URL:https://hcanglican.org/event/loganville-group-70/
LOCATION:GA
CATEGORIES:Small Groups
END:VEVENT
BEGIN:VEVENT
DTSTART;TZID=America/New_York:20250503T093000
DTEND;TZID=America/New_York:20250503T100000
DTSTAMP:20260424T095512
CREATED:20241231T035847Z
LAST-MODIFIED:20241231T035847Z
UID:3662-1746264600-1746266400@hcanglican.org
SUMMARY:Daughters of the Holy Cross
DESCRIPTION:
URL:https://hcanglican.org/event/daughters-of-the-holy-cross-5/
LOCATION:GA
CATEGORIES:Small Groups
END:VEVENT
BEGIN:VEVENT
DTSTART;TZID=America/New_York:20250504T090000
DTEND;TZID=America/New_York:20250504T101000
DTSTAMP:20260424T095512
CREATED:20241231T064009Z
LAST-MODIFIED:20241231T064009Z
UID:4138-1746349200-1746353400@hcanglican.org
SUMMARY:Traditional Worship Service
DESCRIPTION:Our worship is liturgical. We participate in worship together. We sing together. We pray together. We read Scripture together. We confess our sins together. We take communion together. Our worship is guided by the time-tested liturgy of The Book of Common Prayer. Our worship is reverent as we worship a holy God. At most of our services\, we celebrate Holy Communion\, and if you are a baptized and believing Christian you are welcome to receive the bread and wine. Nursery is available and there is a special program for children during part of the service.
URL:https://hcanglican.org/event/traditional-worship-service-71/
LOCATION:Main Sanctuary\, 3836 Oak Grove Road\, Loganville\, GA\, 30052\, United States
CATEGORIES:Worship
END:VEVENT
BEGIN:VEVENT
DTSTART;TZID=America/New_York:20250504T102000
DTEND;TZID=America/New_York:20250504T110000
DTSTAMP:20260424T095512
CREATED:20241231T061909Z
LAST-MODIFIED:20241231T061909Z
UID:4035-1746354000-1746356400@hcanglican.org
SUMMARY:Spiritual Growth Classes
DESCRIPTION:Holy Cross offers classes designed to help us learn and grow in our daily walk with the Lord. There are classes for children\, teens\, and adults. You’re always welcome to jump into any class at any point of the season.
URL:https://hcanglican.org/event/spiritual-growth-classes-47/
LOCATION:Adult Wing\, 3836 Oak Grove Rd.\, Loganville\, GA\, 30052\, United States
CATEGORIES:Small Groups
END:VEVENT
BEGIN:VEVENT
DTSTART;TZID=America/New_York:20250504T111500
DTEND;TZID=America/New_York:20250504T122500
DTSTAMP:20260424T095512
CREATED:20241231T034620Z
LAST-MODIFIED:20250109T221630Z
UID:3624-1746357300-1746361500@hcanglican.org
SUMMARY:Contemporary Worship Service
DESCRIPTION:Our worship is liturgical. We participate in worship together. We sing together. We pray together. We read Scripture together. We confess our sins together. We take communion together. Our worship is guided by the time-tested liturgy of The Book of Common Prayer. Our worship is reverent as we worship a holy God. At most of our services\, we celebrate Holy Communion\, and if you are a baptized and believing Christian you are welcome to receive the bread and wine. Nursery is available and there is a special program for children during part of the service.
URL:https://hcanglican.org/event/contemporary-worship-service-69/
LOCATION:Main Sanctuary\, 3836 Oak Grove Road\, Loganville\, GA\, 30052\, United States
CATEGORIES:Worship
END:VEVENT
BEGIN:VEVENT
DTSTART;TZID=America/Chicago:20250504T140000
DTEND;TZID=America/Chicago:20250504T160000
DTSTAMP:20260424T095512
CREATED:20250325T182559Z
LAST-MODIFIED:20250429T163612Z
UID:4398-1746367200-1746374400@hcanglican.org
SUMMARY:Finishing Life Well
DESCRIPTION:Finishing Life Well is an informational seminar presented by Anglicans for Life on April 27th and May 4th at Holy Cross from 2-4 pm. You’ll receive (and be led through) key documents you and your family need to finish life well. Sign up tables will be in the narthex on March 30th and April 6th. Cost is $10 per person.
URL:https://hcanglican.org/event/finishing-life-well-2/
LOCATION:Son Shine Room\, 3836 Oak Grove Road\, Loganville\, GA\, 30052\, United States
ATTACH;FMTTYPE=image/png:https://hcanglican.org/wp-content/uploads/2025/03/anglicans-for-life.png
ORGANIZER;CN="Anglicans for Life":MAILTO:Info@AnglicansForLife.org
END:VEVENT
BEGIN:VEVENT
DTSTART;TZID=America/New_York:20250505T190000
DTEND;TZID=America/New_York:20250505T203000
DTSTAMP:20260424T095512
CREATED:20241231T052204Z
LAST-MODIFIED:20241231T052204Z
UID:3763-1746471600-1746477000@hcanglican.org
SUMMARY:Lilburn/Stone Mountain Group
DESCRIPTION:Mondays\, 7:00 to 8:30 pm. Contact the church office for more information. parishadmin@hcanglican.org
URL:https://hcanglican.org/event/lilburn-stone-mountain-group-71/
LOCATION:GA
CATEGORIES:Small Groups
END:VEVENT
BEGIN:VEVENT
DTSTART;TZID=America/New_York:20250506T090000
DTEND;TZID=America/New_York:20250506T093000
DTSTAMP:20260424T095512
CREATED:20241231T055809Z
LAST-MODIFIED:20241231T055809Z
UID:3929-1746522000-1746523800@hcanglican.org
SUMMARY:Morning Prayer
DESCRIPTION:Daily Morning Prayer is the established rites by which\, both corporately and individually\, God’s people annually encounter the whole of the Holy Scriptures\, daily confess their sins and praise Almighty God\, and offer timely thanksgivings\, petitions\, and intercessions.
URL:https://hcanglican.org/event/morning-prayer-68/
LOCATION:Chapel\, 3836 Oak Grove Rd.\, Loganville\, GA\, 30052\, United States
CATEGORIES:Worship
END:VEVENT
BEGIN:VEVENT
DTSTART;TZID=America/New_York:20250506T090000
DTEND;TZID=America/New_York:20250506T120000
DTSTAMP:20260424T095512
CREATED:20241231T061508Z
LAST-MODIFIED:20250603T174213Z
UID:4011-1746522000-1746532800@hcanglican.org
SUMMARY:Parent's Day Out
DESCRIPTION:Holy Cross offers a two-day per week Parent’s Day Out program for children ages 1-4 on Tuesdays and Thursdays from 9:00 am through noon during the school year. In addition to serving families in our community\, we hope this ministry grows children in relationship with Jesus. During the summer\, PDO is one day a week on Tuesdays.
URL:https://hcanglican.org/event/parents-day-out-72/
LOCATION:GA
CATEGORIES:Children
END:VEVENT
BEGIN:VEVENT
DTSTART;TZID=America/New_York:20250507T063000
DTEND;TZID=America/New_York:20250507T073000
DTSTAMP:20260424T095512
CREATED:20241231T054610Z
LAST-MODIFIED:20241231T054610Z
UID:3868-1746599400-1746603000@hcanglican.org
SUMMARY:Men’s Bible Study
DESCRIPTION:All men are invited. Meets every Wednesday from 6:30 to 7:30 am.
URL:https://hcanglican.org/event/mens-bible-study-70/
LOCATION:Parlor\, 3836 Oak Grove Road\, Loganville\, GA\, 30052\, United States
CATEGORIES:Small Groups
END:VEVENT
BEGIN:VEVENT
DTSTART;TZID=America/New_York:20250507T102000
DTEND;TZID=America/New_York:20250507T115000
DTSTAMP:20260424T095512
CREATED:20241231T065108Z
LAST-MODIFIED:20241231T065108Z
UID:4191-1746613200-1746618600@hcanglican.org
SUMMARY:Women's Bible Study
DESCRIPTION:All women are invited. Meets in the Strickland Center every Wednesday from 10:20 to 11:50 am.
URL:https://hcanglican.org/event/womens-bible-study-61/
LOCATION:Strickland Student Center\, 3836 Oak Grove Road\, Loganville\, GA\, 30052\, United States
CATEGORIES:Small Groups
END:VEVENT
BEGIN:VEVENT
DTSTART;TZID=America/New_York:20250507T180000
DTEND;TZID=America/New_York:20250507T193000
DTSTAMP:20260424T095512
CREATED:20241231T040548Z
LAST-MODIFIED:20241231T040548Z
UID:3685-1746640800-1746646200@hcanglican.org
SUMMARY:Discipleship Connect
DESCRIPTION:
URL:https://hcanglican.org/event/discipleship-connect-16/
LOCATION:Main Sanctuary\, 3836 Oak Grove Road\, Loganville\, GA\, 30052\, United States
CATEGORIES:Small Groups
END:VEVENT
BEGIN:VEVENT
DTSTART;TZID=America/New_York:20250507T180000
DTEND;TZID=America/New_York:20250507T200000
DTSTAMP:20260424T095512
CREATED:20241231T041607Z
LAST-MODIFIED:20241231T041607Z
UID:3710-1746640800-1746648000@hcanglican.org
SUMMARY:Grayson Group
DESCRIPTION:Wednesdays\, 6:00 to 8:00 pm. Dinner and child care provided. Contact the church office for more information. parishadmin@hcanglican.org
URL:https://hcanglican.org/event/grayson-group-70/
LOCATION:GA
CATEGORIES:Small Groups
END:VEVENT
BEGIN:VEVENT
DTSTART;TZID=America/New_York:20250507T180000
DTEND;TZID=America/New_York:20250507T200000
DTSTAMP:20260424T095512
CREATED:20241231T070009Z
LAST-MODIFIED:20241231T070009Z
UID:4237-1746640800-1746648000@hcanglican.org
SUMMARY:Youth Gathering
DESCRIPTION:Wednesday Youth Gatherings open with snacks and free time for students to play ping-pong\, Ga-Ga ball\, basketball\, or a prepared game or group activity. Then we move into studying the Bible together. Lessons vary from month to month\, each involving student study of the Bible passage or verses. The evening ends in Small Groups (divided by gender and grade) for time to discuss\, process\, and pray with and for each other. Last Wednesdays of each month we have dinner and a fellowship night!
URL:https://hcanglican.org/event/youth-gathering-27/
LOCATION:Strickland Student Center\, 3836 Oak Grove Road\, Loganville\, GA\, 30052\, United States
CATEGORIES:Youth
ATTACH;FMTTYPE=image/jpeg:https://hcanglican.org/wp-content/uploads/2021/11/Youth-Night.jpg
END:VEVENT
BEGIN:VEVENT
DTSTART;TZID=America/New_York:20250508T090000
DTEND;TZID=America/New_York:20250508T120000
DTSTAMP:20260424T095512
CREATED:20241231T061508Z
LAST-MODIFIED:20250603T174213Z
UID:4012-1746694800-1746705600@hcanglican.org
SUMMARY:Parent's Day Out
DESCRIPTION:Holy Cross offers a two-day per week Parent’s Day Out program for children ages 1-4 on Tuesdays and Thursdays from 9:00 am through noon during the school year. In addition to serving families in our community\, we hope this ministry grows children in relationship with Jesus. During the summer\, PDO is one day a week on Tuesdays.
URL:https://hcanglican.org/event/parents-day-out-73/
LOCATION:GA
CATEGORIES:Children
END:VEVENT
BEGIN:VEVENT
DTSTART;TZID=America/New_York:20250509T120000
DTEND;TZID=America/New_York:20250509T123000
DTSTAMP:20260424T095512
CREATED:20241231T063009Z
LAST-MODIFIED:20241231T063009Z
UID:4087-1746792000-1746793800@hcanglican.org
SUMMARY:Stations of the Cross
DESCRIPTION:Open to everyone. Every Friday at noon.
URL:https://hcanglican.org/event/stations-of-the-cross-71/
LOCATION:Main Sanctuary\, 3836 Oak Grove Road\, Loganville\, GA\, 30052\, United States
CATEGORIES:Small Groups
END:VEVENT
BEGIN:VEVENT
DTSTART;TZID=America/New_York:20250509T180000
DTEND;TZID=America/New_York:20250509T203000
DTSTAMP:20260424T095512
CREATED:20241231T030516Z
LAST-MODIFIED:20250109T215705Z
UID:3592-1746813600-1746822600@hcanglican.org
SUMMARY:College-Age Group
DESCRIPTION:Our College Ministry currently focuses on a group Bible study and fellowship time designed for College-age young adults. Dinner begins at 6 pm. Contact tracie@hcanglican.org for more information and for the address (meets in Loganville).
URL:https://hcanglican.org/event/college-age-group-33/
LOCATION:GA
CATEGORIES:Youth
ATTACH;FMTTYPE=image/jpeg:https://hcanglican.org/wp-content/uploads/2023/09/typorama.jpeg
END:VEVENT
BEGIN:VEVENT
DTSTART;TZID=America/New_York:20250510T073000
DTEND;TZID=America/New_York:20250510T090000
DTSTAMP:20260424T095512
CREATED:20241231T053508Z
LAST-MODIFIED:20241231T053508Z
UID:3816-1746862200-1746867600@hcanglican.org
SUMMARY:Loganville Group
DESCRIPTION:Men’s bible study. Meets at Haynes Creek Farm on Saturdays\, 7:30 to 9:00 am. Contact the church office for more information. parishadmin@hcanglican.org
URL:https://hcanglican.org/event/loganville-group-71/
LOCATION:GA
CATEGORIES:Small Groups
END:VEVENT
BEGIN:VEVENT
DTSTART;TZID=America/New_York:20250510T090000
DTEND;TZID=America/New_York:20250510T110000
DTSTAMP:20260424T095512
CREATED:20241231T055309Z
LAST-MODIFIED:20241231T055309Z
UID:3904-1746867600-1746874800@hcanglican.org
SUMMARY:Men’s Ministry Group
DESCRIPTION:The Brotherhood of St. Timothy\, all men are invited. Meets in the Strickland Center on the 2nd Saturday of each month at 9:00 am for breakfast and a program.
URL:https://hcanglican.org/event/mens-ministry-group-17/
LOCATION:Strickland Student Center\, 3836 Oak Grove Road\, Loganville\, GA\, 30052\, United States
CATEGORIES:Small Groups
END:VEVENT
BEGIN:VEVENT
DTSTART;TZID=America/New_York:20250511T090000
DTEND;TZID=America/New_York:20250511T101000
DTSTAMP:20260424T095512
CREATED:20241231T064009Z
LAST-MODIFIED:20241231T064009Z
UID:4139-1746954000-1746958200@hcanglican.org
SUMMARY:Traditional Worship Service
DESCRIPTION:Our worship is liturgical. We participate in worship together. We sing together. We pray together. We read Scripture together. We confess our sins together. We take communion together. Our worship is guided by the time-tested liturgy of The Book of Common Prayer. Our worship is reverent as we worship a holy God. At most of our services\, we celebrate Holy Communion\, and if you are a baptized and believing Christian you are welcome to receive the bread and wine. Nursery is available and there is a special program for children during part of the service.
URL:https://hcanglican.org/event/traditional-worship-service-72/
LOCATION:Main Sanctuary\, 3836 Oak Grove Road\, Loganville\, GA\, 30052\, United States
CATEGORIES:Worship
END:VEVENT
BEGIN:VEVENT
DTSTART;TZID=America/New_York:20250511T102000
DTEND;TZID=America/New_York:20250511T110000
DTSTAMP:20260424T095512
CREATED:20241231T062008Z
LAST-MODIFIED:20241231T062008Z
UID:4036-1746958800-1746961200@hcanglican.org
SUMMARY:Spiritual Growth Classes
DESCRIPTION:Holy Cross offers classes designed to help us learn and grow in our daily walk with the Lord. There are classes for children\, teens\, and adults. You’re always welcome to jump into any class at any point of the season.
URL:https://hcanglican.org/event/spiritual-growth-classes-48/
LOCATION:Adult Wing\, 3836 Oak Grove Rd.\, Loganville\, GA\, 30052\, United States
CATEGORIES:Small Groups
END:VEVENT
BEGIN:VEVENT
DTSTART;TZID=America/New_York:20250511T111500
DTEND;TZID=America/New_York:20250511T122500
DTSTAMP:20260424T095512
CREATED:20241231T034620Z
LAST-MODIFIED:20250109T221630Z
UID:3625-1746962100-1746966300@hcanglican.org
SUMMARY:Contemporary Worship Service
DESCRIPTION:Our worship is liturgical. We participate in worship together. We sing together. We pray together. We read Scripture together. We confess our sins together. We take communion together. Our worship is guided by the time-tested liturgy of The Book of Common Prayer. Our worship is reverent as we worship a holy God. At most of our services\, we celebrate Holy Communion\, and if you are a baptized and believing Christian you are welcome to receive the bread and wine. Nursery is available and there is a special program for children during part of the service.
URL:https://hcanglican.org/event/contemporary-worship-service-70/
LOCATION:Main Sanctuary\, 3836 Oak Grove Road\, Loganville\, GA\, 30052\, United States
CATEGORIES:Worship
END:VEVENT
BEGIN:VEVENT
DTSTART;TZID=America/New_York:20250512T190000
DTEND;TZID=America/New_York:20250512T203000
DTSTAMP:20260424T095512
CREATED:20241231T052204Z
LAST-MODIFIED:20241231T052204Z
UID:3764-1747076400-1747081800@hcanglican.org
SUMMARY:Lilburn/Stone Mountain Group
DESCRIPTION:Mondays\, 7:00 to 8:30 pm. Contact the church office for more information. parishadmin@hcanglican.org
URL:https://hcanglican.org/event/lilburn-stone-mountain-group-72/
LOCATION:GA
CATEGORIES:Small Groups
END:VEVENT
BEGIN:VEVENT
DTSTART;TZID=America/New_York:20250513T090000
DTEND;TZID=America/New_York:20250513T093000
DTSTAMP:20260424T095512
CREATED:20241231T055809Z
LAST-MODIFIED:20241231T055809Z
UID:3930-1747126800-1747128600@hcanglican.org
SUMMARY:Morning Prayer
DESCRIPTION:Daily Morning Prayer is the established rites by which\, both corporately and individually\, God’s people annually encounter the whole of the Holy Scriptures\, daily confess their sins and praise Almighty God\, and offer timely thanksgivings\, petitions\, and intercessions.
URL:https://hcanglican.org/event/morning-prayer-69/
LOCATION:Chapel\, 3836 Oak Grove Rd.\, Loganville\, GA\, 30052\, United States
CATEGORIES:Worship
END:VEVENT
BEGIN:VEVENT
DTSTART;TZID=America/New_York:20250513T090000
DTEND;TZID=America/New_York:20250513T120000
DTSTAMP:20260424T095512
CREATED:20241231T061509Z
LAST-MODIFIED:20250603T174213Z
UID:4013-1747126800-1747137600@hcanglican.org
SUMMARY:Parent's Day Out
DESCRIPTION:Holy Cross offers a two-day per week Parent’s Day Out program for children ages 1-4 on Tuesdays and Thursdays from 9:00 am through noon during the school year. In addition to serving families in our community\, we hope this ministry grows children in relationship with Jesus. During the summer\, PDO is one day a week on Tuesdays.
URL:https://hcanglican.org/event/parents-day-out-74/
LOCATION:GA
CATEGORIES:Children
END:VEVENT
BEGIN:VEVENT
DTSTART;TZID=America/New_York:20250514T063000
DTEND;TZID=America/New_York:20250514T073000
DTSTAMP:20260424T095512
CREATED:20241231T054610Z
LAST-MODIFIED:20241231T054610Z
UID:3869-1747204200-1747207800@hcanglican.org
SUMMARY:Men’s Bible Study
DESCRIPTION:All men are invited. Meets every Wednesday from 6:30 to 7:30 am.
URL:https://hcanglican.org/event/mens-bible-study-71/
LOCATION:Parlor\, 3836 Oak Grove Road\, Loganville\, GA\, 30052\, United States
CATEGORIES:Small Groups
END:VEVENT
BEGIN:VEVENT
DTSTART;TZID=America/New_York:20250514T102000
DTEND;TZID=America/New_York:20250514T115000
DTSTAMP:20260424T095512
CREATED:20241231T065109Z
LAST-MODIFIED:20241231T065109Z
UID:4192-1747218000-1747223400@hcanglican.org
SUMMARY:Women's Bible Study
DESCRIPTION:All women are invited. Meets in the Strickland Center every Wednesday from 10:20 to 11:50 am.
URL:https://hcanglican.org/event/womens-bible-study-62/
LOCATION:Strickland Student Center\, 3836 Oak Grove Road\, Loganville\, GA\, 30052\, United States
CATEGORIES:Small Groups
END:VEVENT
BEGIN:VEVENT
DTSTART;TZID=America/New_York:20250514T180000
DTEND;TZID=America/New_York:20250514T193000
DTSTAMP:20260424T095512
CREATED:20241231T040747Z
LAST-MODIFIED:20241231T040747Z
UID:3686-1747245600-1747251000@hcanglican.org
SUMMARY:Discipleship Connect
DESCRIPTION:
URL:https://hcanglican.org/event/discipleship-connect-17/
LOCATION:Main Sanctuary\, 3836 Oak Grove Road\, Loganville\, GA\, 30052\, United States
CATEGORIES:Small Groups
END:VEVENT
END:VCALENDAR