BEGIN:VCALENDAR
VERSION:2.0
PRODID:-//Holy Cross Anglican Cathedral - ECPv6.15.20//NONSGML v1.0//EN
CALSCALE:GREGORIAN
METHOD:PUBLISH
X-ORIGINAL-URL:https://hcanglican.org
X-WR-CALDESC:Events for Holy Cross Anglican Cathedral
REFRESH-INTERVAL;VALUE=DURATION:PT1H
X-Robots-Tag:noindex
X-PUBLISHED-TTL:PT1H
BEGIN:VTIMEZONE
TZID:America/New_York
BEGIN:DAYLIGHT
TZOFFSETFROM:-0500
TZOFFSETTO:-0400
TZNAME:EDT
DTSTART:20240310T070000
END:DAYLIGHT
BEGIN:STANDARD
TZOFFSETFROM:-0400
TZOFFSETTO:-0500
TZNAME:EST
DTSTART:20241103T060000
END:STANDARD
BEGIN:DAYLIGHT
TZOFFSETFROM:-0500
TZOFFSETTO:-0400
TZNAME:EDT
DTSTART:20250309T070000
END:DAYLIGHT
BEGIN:STANDARD
TZOFFSETFROM:-0400
TZOFFSETTO:-0500
TZNAME:EST
DTSTART:20251102T060000
END:STANDARD
BEGIN:DAYLIGHT
TZOFFSETFROM:-0500
TZOFFSETTO:-0400
TZNAME:EDT
DTSTART:20260308T070000
END:DAYLIGHT
BEGIN:STANDARD
TZOFFSETFROM:-0400
TZOFFSETTO:-0500
TZNAME:EST
DTSTART:20261101T060000
END:STANDARD
END:VTIMEZONE
BEGIN:VTIMEZONE
TZID:America/Chicago
BEGIN:DAYLIGHT
TZOFFSETFROM:-0600
TZOFFSETTO:-0500
TZNAME:CDT
DTSTART:20240310T080000
END:DAYLIGHT
BEGIN:STANDARD
TZOFFSETFROM:-0500
TZOFFSETTO:-0600
TZNAME:CST
DTSTART:20241103T070000
END:STANDARD
BEGIN:DAYLIGHT
TZOFFSETFROM:-0600
TZOFFSETTO:-0500
TZNAME:CDT
DTSTART:20250309T080000
END:DAYLIGHT
BEGIN:STANDARD
TZOFFSETFROM:-0500
TZOFFSETTO:-0600
TZNAME:CST
DTSTART:20251102T070000
END:STANDARD
BEGIN:DAYLIGHT
TZOFFSETFROM:-0600
TZOFFSETTO:-0500
TZNAME:CDT
DTSTART:20260308T080000
END:DAYLIGHT
BEGIN:STANDARD
TZOFFSETFROM:-0500
TZOFFSETTO:-0600
TZNAME:CST
DTSTART:20261101T070000
END:STANDARD
END:VTIMEZONE
BEGIN:VEVENT
DTSTART;TZID=America/New_York:20250212T180000
DTEND;TZID=America/New_York:20250212T200000
DTSTAMP:20260420T102018
CREATED:20241231T041206Z
LAST-MODIFIED:20241231T041206Z
UID:3698-1739383200-1739390400@hcanglican.org
SUMMARY:Grayson Group
DESCRIPTION:Wednesdays\, 6:00 to 8:00 pm. Dinner and child care provided. Contact the church office for more information. parishadmin@hcanglican.org
URL:https://hcanglican.org/event/grayson-group-58/
LOCATION:GA
CATEGORIES:Small Groups
END:VEVENT
BEGIN:VEVENT
DTSTART;TZID=America/New_York:20250212T180000
DTEND;TZID=America/New_York:20250212T200000
DTSTAMP:20260420T102018
CREATED:20241231T065809Z
LAST-MODIFIED:20241231T065809Z
UID:4227-1739383200-1739390400@hcanglican.org
SUMMARY:Youth Gathering
DESCRIPTION:Wednesday Youth Gatherings open with snacks and free time for students to play ping-pong\, Ga-Ga ball\, basketball\, or a prepared game or group activity. Then we move into studying the Bible together. Lessons vary from month to month\, each involving student study of the Bible passage or verses. The evening ends in Small Groups (divided by gender and grade) for time to discuss\, process\, and pray with and for each other. Last Wednesdays of each month we have dinner and a fellowship night!
URL:https://hcanglican.org/event/youth-gathering-17/
LOCATION:Strickland Student Center\, 3836 Oak Grove Road\, Loganville\, GA\, 30052\, United States
CATEGORIES:Youth
ATTACH;FMTTYPE=image/jpeg:https://hcanglican.org/wp-content/uploads/2021/11/Youth-Night.jpg
END:VEVENT
BEGIN:VEVENT
DTSTART;TZID=America/New_York:20250213T090000
DTEND;TZID=America/New_York:20250213T120000
DTSTAMP:20260420T102018
CREATED:20241231T061010Z
LAST-MODIFIED:20250603T173511Z
UID:3990-1739437200-1739448000@hcanglican.org
SUMMARY:Parent's Day Out
DESCRIPTION:Holy Cross offers a two-day per week Parent’s Day Out program for children ages 1-4 on Tuesdays and Thursdays from 9:00 am through noon during the school year. In addition to serving families in our community\, we hope this ministry grows children in relationship with Jesus. During the summer\, PDO is one day a week on Tuesdays.
URL:https://hcanglican.org/event/parents-day-out-51/
LOCATION:GA
CATEGORIES:Children
END:VEVENT
BEGIN:VEVENT
DTSTART;TZID=America/New_York:20250214T120000
DTEND;TZID=America/New_York:20250214T123000
DTSTAMP:20260420T102018
CREATED:20241231T062710Z
LAST-MODIFIED:20241231T062710Z
UID:4075-1739534400-1739536200@hcanglican.org
SUMMARY:Stations of the Cross
DESCRIPTION:Open to everyone. Every Friday at noon.
URL:https://hcanglican.org/event/stations-of-the-cross-59/
LOCATION:Main Sanctuary\, 3836 Oak Grove Road\, Loganville\, GA\, 30052\, United States
CATEGORIES:Small Groups
END:VEVENT
BEGIN:VEVENT
DTSTART;TZID=America/New_York:20250214T180000
DTEND;TZID=America/New_York:20250214T203000
DTSTAMP:20260420T102018
CREATED:20241231T030413Z
LAST-MODIFIED:20250109T215625Z
UID:3586-1739556000-1739565000@hcanglican.org
SUMMARY:College-Age Group
DESCRIPTION:Our College Ministry currently focuses on a group Bible study and fellowship time designed for College-age young adults. Dinner begins at 6 pm. Contact tracie@hcanglican.org for more information and for the address (meets in Loganville).
URL:https://hcanglican.org/event/college-age-group-27/
LOCATION:GA
CATEGORIES:Youth
ATTACH;FMTTYPE=image/jpeg:https://hcanglican.org/wp-content/uploads/2023/09/typorama.jpeg
END:VEVENT
BEGIN:VEVENT
DTSTART;TZID=America/New_York:20250215T073000
DTEND;TZID=America/New_York:20250215T090000
DTSTAMP:20260420T102018
CREATED:20241231T053208Z
LAST-MODIFIED:20241231T053208Z
UID:3804-1739604600-1739610000@hcanglican.org
SUMMARY:Loganville Group
DESCRIPTION:Men’s bible study. Meets at Haynes Creek Farm on Saturdays\, 7:30 to 9:00 am. Contact the church office for more information. parishadmin@hcanglican.org
URL:https://hcanglican.org/event/loganville-group-59/
LOCATION:GA
CATEGORIES:Small Groups
END:VEVENT
BEGIN:VEVENT
DTSTART;TZID=America/New_York:20250216T090000
DTEND;TZID=America/New_York:20250216T101000
DTSTAMP:20260420T102018
CREATED:20241231T063809Z
LAST-MODIFIED:20241231T063809Z
UID:4127-1739696400-1739700600@hcanglican.org
SUMMARY:Traditional Worship Service
DESCRIPTION:Our worship is liturgical. We participate in worship together. We sing together. We pray together. We read Scripture together. We confess our sins together. We take communion together. Our worship is guided by the time-tested liturgy of The Book of Common Prayer. Our worship is reverent as we worship a holy God. At most of our services\, we celebrate Holy Communion\, and if you are a baptized and believing Christian you are welcome to receive the bread and wine. Nursery is available and there is a special program for children during part of the service.
URL:https://hcanglican.org/event/traditional-worship-service-60/
LOCATION:Main Sanctuary\, 3836 Oak Grove Road\, Loganville\, GA\, 30052\, United States
CATEGORIES:Worship
END:VEVENT
BEGIN:VEVENT
DTSTART;TZID=America/New_York:20250216T102000
DTEND;TZID=America/New_York:20250216T110000
DTSTAMP:20260420T102018
CREATED:20241231T061809Z
LAST-MODIFIED:20241231T061809Z
UID:4026-1739701200-1739703600@hcanglican.org
SUMMARY:Spiritual Growth Classes
DESCRIPTION:Holy Cross offers classes designed to help us learn and grow in our daily walk with the Lord. There are classes for children\, teens\, and adults. You’re always welcome to jump into any class at any point of the season.
URL:https://hcanglican.org/event/spiritual-growth-classes-38/
LOCATION:Adult Wing\, 3836 Oak Grove Rd.\, Loganville\, GA\, 30052\, United States
CATEGORIES:Small Groups
END:VEVENT
BEGIN:VEVENT
DTSTART;TZID=America/New_York:20250216T111500
DTEND;TZID=America/New_York:20250216T122500
DTSTAMP:20260420T102018
CREATED:20241231T031316Z
LAST-MODIFIED:20250109T220405Z
UID:3613-1739704500-1739708700@hcanglican.org
SUMMARY:Contemporary Worship Service
DESCRIPTION:Our worship is liturgical. We participate in worship together. We sing together. We pray together. We read Scripture together. We confess our sins together. We take communion together. Our worship is guided by the time-tested liturgy of The Book of Common Prayer. Our worship is reverent as we worship a holy God. At most of our services\, we celebrate Holy Communion\, and if you are a baptized and believing Christian you are welcome to receive the bread and wine. Nursery is available and there is a special program for children during part of the service.
URL:https://hcanglican.org/event/contemporary-worship-service-58/
LOCATION:Main Sanctuary\, 3836 Oak Grove Road\, Loganville\, GA\, 30052\, United States
CATEGORIES:Worship
END:VEVENT
BEGIN:VEVENT
DTSTART;VALUE=DATE:20250217
DTEND;VALUE=DATE:20250218
DTSTAMP:20260420T102018
CREATED:20241231T060609Z
LAST-MODIFIED:20241231T060609Z
UID:3967-1739750400-1739836799@hcanglican.org
SUMMARY:Office Closed
DESCRIPTION:
URL:https://hcanglican.org/event/office-closed-21/
LOCATION:GA
END:VEVENT
BEGIN:VEVENT
DTSTART;TZID=America/New_York:20250217T190000
DTEND;TZID=America/New_York:20250217T203000
DTSTAMP:20260420T102018
CREATED:20241231T051903Z
LAST-MODIFIED:20241231T051903Z
UID:3752-1739818800-1739824200@hcanglican.org
SUMMARY:Lilburn/Stone Mountain Group
DESCRIPTION:Mondays\, 7:00 to 8:30 pm. Contact the church office for more information. parishadmin@hcanglican.org
URL:https://hcanglican.org/event/lilburn-stone-mountain-group-60/
LOCATION:GA
CATEGORIES:Small Groups
END:VEVENT
BEGIN:VEVENT
DTSTART;TZID=America/New_York:20250218T090000
DTEND;TZID=America/New_York:20250218T093000
DTSTAMP:20260420T102018
CREATED:20241231T055609Z
LAST-MODIFIED:20241231T055609Z
UID:3918-1739869200-1739871000@hcanglican.org
SUMMARY:Morning Prayer
DESCRIPTION:Daily Morning Prayer is the established rites by which\, both corporately and individually\, God’s people annually encounter the whole of the Holy Scriptures\, daily confess their sins and praise Almighty God\, and offer timely thanksgivings\, petitions\, and intercessions.
URL:https://hcanglican.org/event/morning-prayer-57/
LOCATION:Chapel\, 3836 Oak Grove Rd.\, Loganville\, GA\, 30052\, United States
CATEGORIES:Worship
END:VEVENT
BEGIN:VEVENT
DTSTART;TZID=America/New_York:20250218T090000
DTEND;TZID=America/New_York:20250218T120000
DTSTAMP:20260420T102018
CREATED:20241231T061109Z
LAST-MODIFIED:20250603T173511Z
UID:3991-1739869200-1739880000@hcanglican.org
SUMMARY:Parent's Day Out
DESCRIPTION:Holy Cross offers a two-day per week Parent’s Day Out program for children ages 1-4 on Tuesdays and Thursdays from 9:00 am through noon during the school year. In addition to serving families in our community\, we hope this ministry grows children in relationship with Jesus. During the summer\, PDO is one day a week on Tuesdays.
URL:https://hcanglican.org/event/parents-day-out-52/
LOCATION:GA
CATEGORIES:Children
END:VEVENT
BEGIN:VEVENT
DTSTART;TZID=America/Chicago:20250218T120000
DTEND;TZID=America/Chicago:20250218T130000
DTSTAMP:20260420T102018
CREATED:20250123T203729Z
LAST-MODIFIED:20250123T203730Z
UID:4258-1739880000-1739883600@hcanglican.org
SUMMARY:Martin Luther Eucharist
DESCRIPTION:A service in commemoration of Martin Luther\, Reformer of the Church.
URL:https://hcanglican.org/event/martin-luther-eucharist/
LOCATION:Main Sanctuary\, 3836 Oak Grove Road\, Loganville\, GA\, 30052\, United States
CATEGORIES:Worship
ATTACH;FMTTYPE=image/jpeg:https://hcanglican.org/wp-content/uploads/2025/01/Martin-Luther-95-Theses.jpg
END:VEVENT
BEGIN:VEVENT
DTSTART;TZID=America/New_York:20250219T063000
DTEND;TZID=America/New_York:20250219T073000
DTSTAMP:20260420T102018
CREATED:20241231T054409Z
LAST-MODIFIED:20241231T054409Z
UID:3857-1739946600-1739950200@hcanglican.org
SUMMARY:Men’s Bible Study
DESCRIPTION:All men are invited. Meets every Wednesday from 6:30 to 7:30 am.
URL:https://hcanglican.org/event/mens-bible-study-59/
LOCATION:Parlor\, 3836 Oak Grove Road\, Loganville\, GA\, 30052\, United States
CATEGORIES:Small Groups
END:VEVENT
BEGIN:VEVENT
DTSTART;TZID=America/New_York:20250219T102000
DTEND;TZID=America/New_York:20250219T115000
DTSTAMP:20260420T102018
CREATED:20241231T064809Z
LAST-MODIFIED:20241231T064809Z
UID:4180-1739960400-1739965800@hcanglican.org
SUMMARY:Women's Bible Study
DESCRIPTION:All women are invited. Meets in the Strickland Center every Wednesday from 10:20 to 11:50 am.
URL:https://hcanglican.org/event/womens-bible-study-50/
LOCATION:Strickland Student Center\, 3836 Oak Grove Road\, Loganville\, GA\, 30052\, United States
CATEGORIES:Small Groups
END:VEVENT
BEGIN:VEVENT
DTSTART;TZID=America/New_York:20250219T180000
DTEND;TZID=America/New_York:20250219T193000
DTSTAMP:20260420T102018
CREATED:20241231T040149Z
LAST-MODIFIED:20241231T040149Z
UID:3675-1739988000-1739993400@hcanglican.org
SUMMARY:Discipleship Connect
DESCRIPTION:
URL:https://hcanglican.org/event/discipleship-connect-6/
LOCATION:Main Sanctuary\, 3836 Oak Grove Road\, Loganville\, GA\, 30052\, United States
CATEGORIES:Small Groups
END:VEVENT
BEGIN:VEVENT
DTSTART;TZID=America/New_York:20250219T180000
DTEND;TZID=America/New_York:20250219T200000
DTSTAMP:20260420T102018
CREATED:20241231T041206Z
LAST-MODIFIED:20241231T041206Z
UID:3699-1739988000-1739995200@hcanglican.org
SUMMARY:Grayson Group
DESCRIPTION:Wednesdays\, 6:00 to 8:00 pm. Dinner and child care provided. Contact the church office for more information. parishadmin@hcanglican.org
URL:https://hcanglican.org/event/grayson-group-59/
LOCATION:GA
CATEGORIES:Small Groups
END:VEVENT
BEGIN:VEVENT
DTSTART;TZID=America/New_York:20250219T180000
DTEND;TZID=America/New_York:20250219T200000
DTSTAMP:20260420T102018
CREATED:20241231T065809Z
LAST-MODIFIED:20241231T065809Z
UID:4228-1739988000-1739995200@hcanglican.org
SUMMARY:Youth Gathering
DESCRIPTION:Wednesday Youth Gatherings open with snacks and free time for students to play ping-pong\, Ga-Ga ball\, basketball\, or a prepared game or group activity. Then we move into studying the Bible together. Lessons vary from month to month\, each involving student study of the Bible passage or verses. The evening ends in Small Groups (divided by gender and grade) for time to discuss\, process\, and pray with and for each other. Last Wednesdays of each month we have dinner and a fellowship night!
URL:https://hcanglican.org/event/youth-gathering-18/
LOCATION:Strickland Student Center\, 3836 Oak Grove Road\, Loganville\, GA\, 30052\, United States
CATEGORIES:Youth
ATTACH;FMTTYPE=image/jpeg:https://hcanglican.org/wp-content/uploads/2021/11/Youth-Night.jpg
END:VEVENT
BEGIN:VEVENT
DTSTART;TZID=America/New_York:20250220T090000
DTEND;TZID=America/New_York:20250220T120000
DTSTAMP:20260420T102018
CREATED:20241231T061109Z
LAST-MODIFIED:20250603T173511Z
UID:3992-1740042000-1740052800@hcanglican.org
SUMMARY:Parent's Day Out
DESCRIPTION:Holy Cross offers a two-day per week Parent’s Day Out program for children ages 1-4 on Tuesdays and Thursdays from 9:00 am through noon during the school year. In addition to serving families in our community\, we hope this ministry grows children in relationship with Jesus. During the summer\, PDO is one day a week on Tuesdays.
URL:https://hcanglican.org/event/parents-day-out-53/
LOCATION:GA
CATEGORIES:Children
END:VEVENT
BEGIN:VEVENT
DTSTART;TZID=America/New_York:20250221T120000
DTEND;TZID=America/New_York:20250221T123000
DTSTAMP:20260420T102018
CREATED:20241231T062809Z
LAST-MODIFIED:20241231T062809Z
UID:4076-1740139200-1740141000@hcanglican.org
SUMMARY:Stations of the Cross
DESCRIPTION:Open to everyone. Every Friday at noon.
URL:https://hcanglican.org/event/stations-of-the-cross-60/
LOCATION:Main Sanctuary\, 3836 Oak Grove Road\, Loganville\, GA\, 30052\, United States
CATEGORIES:Small Groups
END:VEVENT
BEGIN:VEVENT
DTSTART;TZID=America/New_York:20250222T073000
DTEND;TZID=America/New_York:20250222T090000
DTSTAMP:20260420T102018
CREATED:20241231T053209Z
LAST-MODIFIED:20241231T053209Z
UID:3805-1740209400-1740214800@hcanglican.org
SUMMARY:Loganville Group
DESCRIPTION:Men’s bible study. Meets at Haynes Creek Farm on Saturdays\, 7:30 to 9:00 am. Contact the church office for more information. parishadmin@hcanglican.org
URL:https://hcanglican.org/event/loganville-group-60/
LOCATION:GA
CATEGORIES:Small Groups
END:VEVENT
BEGIN:VEVENT
DTSTART;TZID=America/New_York:20250222T100000
DTEND;TZID=America/New_York:20250222T110000
DTSTAMP:20260420T102018
CREATED:20250408T164909Z
LAST-MODIFIED:20250408T165310Z
UID:4411-1740218400-1740222000@hcanglican.org
SUMMARY:No More Secrets
DESCRIPTION:A monthly program for victims and survivors of abuse\, No More Secrets offers a balanced approach that nurtures holistic healing through confidential support and a non-judgmental environment. Hosted by Chioma Chime: author survivor\, advocate\, and coach. The fourth Saturday of each month. Open to both men and women.
URL:https://hcanglican.org/event/no-more-screts/
LOCATION:Adult Wing\, 3836 Oak Grove Rd.\, Loganville\, GA\, 30052\, United States
CATEGORIES:Small Groups
END:VEVENT
BEGIN:VEVENT
DTSTART;TZID=America/New_York:20250223T090000
DTEND;TZID=America/New_York:20250223T101000
DTSTAMP:20260420T102018
CREATED:20241231T063809Z
LAST-MODIFIED:20241231T063809Z
UID:4128-1740301200-1740305400@hcanglican.org
SUMMARY:Traditional Worship Service
DESCRIPTION:Our worship is liturgical. We participate in worship together. We sing together. We pray together. We read Scripture together. We confess our sins together. We take communion together. Our worship is guided by the time-tested liturgy of The Book of Common Prayer. Our worship is reverent as we worship a holy God. At most of our services\, we celebrate Holy Communion\, and if you are a baptized and believing Christian you are welcome to receive the bread and wine. Nursery is available and there is a special program for children during part of the service.
URL:https://hcanglican.org/event/traditional-worship-service-61/
LOCATION:Main Sanctuary\, 3836 Oak Grove Road\, Loganville\, GA\, 30052\, United States
CATEGORIES:Worship
END:VEVENT
BEGIN:VEVENT
DTSTART;TZID=America/Chicago:20250223T101500
DTEND;TZID=America/Chicago:20250223T110000
DTSTAMP:20260420T102018
CREATED:20250128T195835Z
LAST-MODIFIED:20250128T200259Z
UID:4312-1740305700-1740308400@hcanglican.org
SUMMARY:Annual Meeting & Dean’s Awards
DESCRIPTION:This is an important time together to get some brief but significant updates on the annual happenings at Holy Cross. \nAll members are requested to make it a priority to attend. Everyone is invited. \nAs a part of the meeting we will also enjoy the “Dean’s Awards” given for special ministry by congregation members throughout the year!
URL:https://hcanglican.org/event/annual-meeting-deans-awards-2/
LOCATION:Main Sanctuary\, 3836 Oak Grove Road\, Loganville\, GA\, 30052\, United States
ATTACH;FMTTYPE=image/png:https://hcanglican.org/wp-content/uploads/2025/01/annual-meeting-2.png
END:VEVENT
BEGIN:VEVENT
DTSTART;TZID=America/New_York:20250223T111500
DTEND;TZID=America/New_York:20250223T122500
DTSTAMP:20260420T102018
CREATED:20241231T031317Z
LAST-MODIFIED:20250109T220405Z
UID:3614-1740309300-1740313500@hcanglican.org
SUMMARY:Contemporary Worship Service
DESCRIPTION:Our worship is liturgical. We participate in worship together. We sing together. We pray together. We read Scripture together. We confess our sins together. We take communion together. Our worship is guided by the time-tested liturgy of The Book of Common Prayer. Our worship is reverent as we worship a holy God. At most of our services\, we celebrate Holy Communion\, and if you are a baptized and believing Christian you are welcome to receive the bread and wine. Nursery is available and there is a special program for children during part of the service.
URL:https://hcanglican.org/event/contemporary-worship-service-59/
LOCATION:Main Sanctuary\, 3836 Oak Grove Road\, Loganville\, GA\, 30052\, United States
CATEGORIES:Worship
END:VEVENT
BEGIN:VEVENT
DTSTART;TZID=America/New_York:20250224T190000
DTEND;TZID=America/New_York:20250224T203000
DTSTAMP:20260420T102018
CREATED:20241231T051903Z
LAST-MODIFIED:20241231T051903Z
UID:3753-1740423600-1740429000@hcanglican.org
SUMMARY:Lilburn/Stone Mountain Group
DESCRIPTION:Mondays\, 7:00 to 8:30 pm. Contact the church office for more information. parishadmin@hcanglican.org
URL:https://hcanglican.org/event/lilburn-stone-mountain-group-61/
LOCATION:GA
CATEGORIES:Small Groups
END:VEVENT
BEGIN:VEVENT
DTSTART;TZID=America/New_York:20250225T090000
DTEND;TZID=America/New_York:20250225T093000
DTSTAMP:20260420T102018
CREATED:20241231T055609Z
LAST-MODIFIED:20241231T055609Z
UID:3919-1740474000-1740475800@hcanglican.org
SUMMARY:Morning Prayer
DESCRIPTION:Daily Morning Prayer is the established rites by which\, both corporately and individually\, God’s people annually encounter the whole of the Holy Scriptures\, daily confess their sins and praise Almighty God\, and offer timely thanksgivings\, petitions\, and intercessions.
URL:https://hcanglican.org/event/morning-prayer-58/
LOCATION:Chapel\, 3836 Oak Grove Rd.\, Loganville\, GA\, 30052\, United States
CATEGORIES:Worship
END:VEVENT
BEGIN:VEVENT
DTSTART;TZID=America/New_York:20250225T090000
DTEND;TZID=America/New_York:20250225T120000
DTSTAMP:20260420T102018
CREATED:20241231T061110Z
LAST-MODIFIED:20250603T173511Z
UID:3993-1740474000-1740484800@hcanglican.org
SUMMARY:Parent's Day Out
DESCRIPTION:Holy Cross offers a two-day per week Parent’s Day Out program for children ages 1-4 on Tuesdays and Thursdays from 9:00 am through noon during the school year. In addition to serving families in our community\, we hope this ministry grows children in relationship with Jesus. During the summer\, PDO is one day a week on Tuesdays.
URL:https://hcanglican.org/event/parents-day-out-54/
LOCATION:GA
CATEGORIES:Children
END:VEVENT
BEGIN:VEVENT
DTSTART;TZID=America/New_York:20250226T063000
DTEND;TZID=America/New_York:20250226T073000
DTSTAMP:20260420T102018
CREATED:20241231T054409Z
LAST-MODIFIED:20241231T054409Z
UID:3858-1740551400-1740555000@hcanglican.org
SUMMARY:Men’s Bible Study
DESCRIPTION:All men are invited. Meets every Wednesday from 6:30 to 7:30 am.
URL:https://hcanglican.org/event/mens-bible-study-60/
LOCATION:Parlor\, 3836 Oak Grove Road\, Loganville\, GA\, 30052\, United States
CATEGORIES:Small Groups
END:VEVENT
END:VCALENDAR