BEGIN:VCALENDAR
VERSION:2.0
PRODID:-//Holy Cross Anglican Cathedral - ECPv6.15.20//NONSGML v1.0//EN
CALSCALE:GREGORIAN
METHOD:PUBLISH
X-ORIGINAL-URL:https://hcanglican.org
X-WR-CALDESC:Events for Holy Cross Anglican Cathedral
REFRESH-INTERVAL;VALUE=DURATION:PT1H
X-Robots-Tag:noindex
X-PUBLISHED-TTL:PT1H
BEGIN:VTIMEZONE
TZID:America/New_York
BEGIN:DAYLIGHT
TZOFFSETFROM:-0500
TZOFFSETTO:-0400
TZNAME:EDT
DTSTART:20240310T070000
END:DAYLIGHT
BEGIN:STANDARD
TZOFFSETFROM:-0400
TZOFFSETTO:-0500
TZNAME:EST
DTSTART:20241103T060000
END:STANDARD
BEGIN:DAYLIGHT
TZOFFSETFROM:-0500
TZOFFSETTO:-0400
TZNAME:EDT
DTSTART:20250309T070000
END:DAYLIGHT
BEGIN:STANDARD
TZOFFSETFROM:-0400
TZOFFSETTO:-0500
TZNAME:EST
DTSTART:20251102T060000
END:STANDARD
BEGIN:DAYLIGHT
TZOFFSETFROM:-0500
TZOFFSETTO:-0400
TZNAME:EDT
DTSTART:20260308T070000
END:DAYLIGHT
BEGIN:STANDARD
TZOFFSETFROM:-0400
TZOFFSETTO:-0500
TZNAME:EST
DTSTART:20261101T060000
END:STANDARD
END:VTIMEZONE
BEGIN:VTIMEZONE
TZID:America/Chicago
BEGIN:DAYLIGHT
TZOFFSETFROM:-0600
TZOFFSETTO:-0500
TZNAME:CDT
DTSTART:20240310T080000
END:DAYLIGHT
BEGIN:STANDARD
TZOFFSETFROM:-0500
TZOFFSETTO:-0600
TZNAME:CST
DTSTART:20241103T070000
END:STANDARD
BEGIN:DAYLIGHT
TZOFFSETFROM:-0600
TZOFFSETTO:-0500
TZNAME:CDT
DTSTART:20250309T080000
END:DAYLIGHT
BEGIN:STANDARD
TZOFFSETFROM:-0500
TZOFFSETTO:-0600
TZNAME:CST
DTSTART:20251102T070000
END:STANDARD
BEGIN:DAYLIGHT
TZOFFSETFROM:-0600
TZOFFSETTO:-0500
TZNAME:CDT
DTSTART:20260308T080000
END:DAYLIGHT
BEGIN:STANDARD
TZOFFSETFROM:-0500
TZOFFSETTO:-0600
TZNAME:CST
DTSTART:20261101T070000
END:STANDARD
END:VTIMEZONE
BEGIN:VEVENT
DTSTART;TZID=America/New_York:20250104T093000
DTEND;TZID=America/New_York:20250104T100000
DTSTAMP:20260420T125214
CREATED:20241231T035647Z
LAST-MODIFIED:20241231T035647Z
UID:3658-1735983000-1735984800@hcanglican.org
SUMMARY:Daughters of the Holy Cross
DESCRIPTION:
URL:https://hcanglican.org/event/daughters-of-the-holy-cross/
LOCATION:GA
CATEGORIES:Small Groups
END:VEVENT
BEGIN:VEVENT
DTSTART;TZID=America/New_York:20250105T090000
DTEND;TZID=America/New_York:20250105T101000
DTSTAMP:20260420T125214
CREATED:20241231T063709Z
LAST-MODIFIED:20241231T063709Z
UID:4121-1736067600-1736071800@hcanglican.org
SUMMARY:Traditional Worship Service
DESCRIPTION:Our worship is liturgical. We participate in worship together. We sing together. We pray together. We read Scripture together. We confess our sins together. We take communion together. Our worship is guided by the time-tested liturgy of The Book of Common Prayer. Our worship is reverent as we worship a holy God. At most of our services\, we celebrate Holy Communion\, and if you are a baptized and believing Christian you are welcome to receive the bread and wine. Nursery is available and there is a special program for children during part of the service.
URL:https://hcanglican.org/event/traditional-worship-service-54/
LOCATION:Main Sanctuary\, 3836 Oak Grove Road\, Loganville\, GA\, 30052\, United States
CATEGORIES:Worship
END:VEVENT
BEGIN:VEVENT
DTSTART;TZID=America/New_York:20250105T111500
DTEND;TZID=America/New_York:20250105T122500
DTSTAMP:20260420T125214
CREATED:20241231T031116Z
LAST-MODIFIED:20250109T220205Z
UID:3607-1736075700-1736079900@hcanglican.org
SUMMARY:Contemporary Worship Service
DESCRIPTION:Our worship is liturgical. We participate in worship together. We sing together. We pray together. We read Scripture together. We confess our sins together. We take communion together. Our worship is guided by the time-tested liturgy of The Book of Common Prayer. Our worship is reverent as we worship a holy God. At most of our services\, we celebrate Holy Communion\, and if you are a baptized and believing Christian you are welcome to receive the bread and wine. Nursery is available and there is a special program for children during part of the service.
URL:https://hcanglican.org/event/contemporary-worship-service-52/
LOCATION:Main Sanctuary\, 3836 Oak Grove Road\, Loganville\, GA\, 30052\, United States
CATEGORIES:Worship
END:VEVENT
BEGIN:VEVENT
DTSTART;TZID=America/New_York:20250106T120000
DTEND;TZID=America/New_York:20250106T130000
DTSTAMP:20260420T125214
CREATED:20241231T040749Z
LAST-MODIFIED:20241231T040749Z
UID:3689-1736164800-1736168400@hcanglican.org
SUMMARY:Epiphany Eucharist
DESCRIPTION:
URL:https://hcanglican.org/event/epiphany-eucharist/
LOCATION:Main Sanctuary\, 3836 Oak Grove Road\, Loganville\, GA\, 30052\, United States
CATEGORIES:Worship
END:VEVENT
BEGIN:VEVENT
DTSTART;TZID=America/New_York:20250106T190000
DTEND;TZID=America/New_York:20250106T203000
DTSTAMP:20260420T125214
CREATED:20241231T051701Z
LAST-MODIFIED:20241231T051701Z
UID:3746-1736190000-1736195400@hcanglican.org
SUMMARY:Lilburn/Stone Mountain Group
DESCRIPTION:Mondays\, 7:00 to 8:30 pm. Contact the church office for more information. parishadmin@hcanglican.org
URL:https://hcanglican.org/event/lilburn-stone-mountain-group-54/
LOCATION:GA
CATEGORIES:Small Groups
END:VEVENT
BEGIN:VEVENT
DTSTART;TZID=America/New_York:20250107T090000
DTEND;TZID=America/New_York:20250107T093000
DTSTAMP:20260420T125214
CREATED:20241231T055508Z
LAST-MODIFIED:20241231T055508Z
UID:3912-1736240400-1736242200@hcanglican.org
SUMMARY:Morning Prayer
DESCRIPTION:Daily Morning Prayer is the established rites by which\, both corporately and individually\, God’s people annually encounter the whole of the Holy Scriptures\, daily confess their sins and praise Almighty God\, and offer timely thanksgivings\, petitions\, and intercessions.
URL:https://hcanglican.org/event/morning-prayer-51/
LOCATION:Chapel\, 3836 Oak Grove Rd.\, Loganville\, GA\, 30052\, United States
CATEGORIES:Worship
END:VEVENT
BEGIN:VEVENT
DTSTART;TZID=America/New_York:20250107T090000
DTEND;TZID=America/New_York:20250107T120000
DTSTAMP:20260420T125214
CREATED:20241231T060810Z
LAST-MODIFIED:20250603T173310Z
UID:3979-1736240400-1736251200@hcanglican.org
SUMMARY:Parent's Day Out
DESCRIPTION:Holy Cross offers a two-day per week Parent’s Day Out program for children ages 1-4 on Tuesdays and Thursdays from 9:00 am through noon during the school year. In addition to serving families in our community\, we hope this ministry grows children in relationship with Jesus. During the summer\, PDO is one day a week on Tuesdays.
URL:https://hcanglican.org/event/parents-day-out-40/
LOCATION:GA
CATEGORIES:Children
END:VEVENT
BEGIN:VEVENT
DTSTART;TZID=America/New_York:20250108T063000
DTEND;TZID=America/New_York:20250108T073000
DTSTAMP:20260420T125214
CREATED:20241231T054308Z
LAST-MODIFIED:20241231T054308Z
UID:3851-1736317800-1736321400@hcanglican.org
SUMMARY:Men’s Bible Study
DESCRIPTION:All men are invited. Meets every Wednesday from 6:30 to 7:30 am.
URL:https://hcanglican.org/event/mens-bible-study-53/
LOCATION:Parlor\, 3836 Oak Grove Road\, Loganville\, GA\, 30052\, United States
CATEGORIES:Small Groups
END:VEVENT
BEGIN:VEVENT
DTSTART;TZID=America/New_York:20250108T102000
DTEND;TZID=America/New_York:20250108T115000
DTSTAMP:20260420T125214
CREATED:20241231T064709Z
LAST-MODIFIED:20241231T064709Z
UID:4174-1736331600-1736337000@hcanglican.org
SUMMARY:Women's Bible Study
DESCRIPTION:All women are invited. Meets in the Strickland Center every Wednesday from 10:20 to 11:50 am.
URL:https://hcanglican.org/event/womens-bible-study-44/
LOCATION:Strickland Student Center\, 3836 Oak Grove Road\, Loganville\, GA\, 30052\, United States
CATEGORIES:Small Groups
END:VEVENT
BEGIN:VEVENT
DTSTART;TZID=America/New_York:20250108T180000
DTEND;TZID=America/New_York:20250108T200000
DTSTAMP:20260420T125214
CREATED:20241231T041006Z
LAST-MODIFIED:20241231T041006Z
UID:3693-1736359200-1736366400@hcanglican.org
SUMMARY:Grayson Group
DESCRIPTION:Wednesdays\, 6:00 to 8:00 pm. Dinner and child care provided. Contact the church office for more information. parishadmin@hcanglican.org
URL:https://hcanglican.org/event/grayson-group-53/
LOCATION:GA
CATEGORIES:Small Groups
END:VEVENT
BEGIN:VEVENT
DTSTART;TZID=America/New_York:20250109T090000
DTEND;TZID=America/New_York:20250109T120000
DTSTAMP:20260420T125214
CREATED:20241231T060810Z
LAST-MODIFIED:20250603T173310Z
UID:3980-1736413200-1736424000@hcanglican.org
SUMMARY:Parent's Day Out
DESCRIPTION:Holy Cross offers a two-day per week Parent’s Day Out program for children ages 1-4 on Tuesdays and Thursdays from 9:00 am through noon during the school year. In addition to serving families in our community\, we hope this ministry grows children in relationship with Jesus. During the summer\, PDO is one day a week on Tuesdays.
URL:https://hcanglican.org/event/parents-day-out-41/
LOCATION:GA
CATEGORIES:Children
END:VEVENT
BEGIN:VEVENT
DTSTART;TZID=America/New_York:20250110T120000
DTEND;TZID=America/New_York:20250110T123000
DTSTAMP:20260420T125214
CREATED:20241231T062610Z
LAST-MODIFIED:20241231T062610Z
UID:4070-1736510400-1736512200@hcanglican.org
SUMMARY:Stations of the Cross
DESCRIPTION:Open to everyone. Every Friday at noon.
URL:https://hcanglican.org/event/stations-of-the-cross-54/
LOCATION:Main Sanctuary\, 3836 Oak Grove Road\, Loganville\, GA\, 30052\, United States
CATEGORIES:Small Groups
END:VEVENT
BEGIN:VEVENT
DTSTART;TZID=America/New_York:20250110T180000
DTEND;TZID=America/New_York:20250110T203000
DTSTAMP:20260420T125214
CREATED:20241231T030313Z
LAST-MODIFIED:20250109T215604Z
UID:3584-1736532000-1736541000@hcanglican.org
SUMMARY:College-Age Group
DESCRIPTION:Our College Ministry currently focuses on a group Bible study and fellowship time designed for College-age young adults. Dinner begins at 6 pm. Contact tracie@hcanglican.org for more information and for the address (meets in Loganville).
URL:https://hcanglican.org/event/college-age-group-25/
LOCATION:GA
CATEGORIES:Youth
ATTACH;FMTTYPE=image/jpeg:https://hcanglican.org/wp-content/uploads/2023/09/typorama.jpeg
END:VEVENT
BEGIN:VEVENT
DTSTART;TZID=America/New_York:20250111T073000
DTEND;TZID=America/New_York:20250111T090000
DTSTAMP:20260420T125214
CREATED:20241231T053110Z
LAST-MODIFIED:20241231T053110Z
UID:3799-1736580600-1736586000@hcanglican.org
SUMMARY:Loganville Group
DESCRIPTION:Men’s bible study. Meets at Haynes Creek Farm on Saturdays\, 7:30 to 9:00 am. Contact the church office for more information. parishadmin@hcanglican.org
URL:https://hcanglican.org/event/loganville-group-54/
LOCATION:GA
CATEGORIES:Small Groups
END:VEVENT
BEGIN:VEVENT
DTSTART;TZID=America/New_York:20250111T090000
DTEND;TZID=America/New_York:20250111T110000
DTSTAMP:20260420T125214
CREATED:20241231T055210Z
LAST-MODIFIED:20241231T055210Z
UID:3900-1736586000-1736593200@hcanglican.org
SUMMARY:Men’s Ministry Group
DESCRIPTION:The Brotherhood of St. Timothy\, all men are invited. Meets in the Strickland Center on the 2nd Saturday of each month at 9:00 am for breakfast and a program.
URL:https://hcanglican.org/event/mens-ministry-group-13/
LOCATION:Strickland Student Center\, 3836 Oak Grove Road\, Loganville\, GA\, 30052\, United States
CATEGORIES:Small Groups
END:VEVENT
BEGIN:VEVENT
DTSTART;TZID=America/New_York:20250112T090000
DTEND;TZID=America/New_York:20250112T101000
DTSTAMP:20260420T125214
CREATED:20241231T063709Z
LAST-MODIFIED:20241231T063709Z
UID:4122-1736672400-1736676600@hcanglican.org
SUMMARY:Traditional Worship Service
DESCRIPTION:Our worship is liturgical. We participate in worship together. We sing together. We pray together. We read Scripture together. We confess our sins together. We take communion together. Our worship is guided by the time-tested liturgy of The Book of Common Prayer. Our worship is reverent as we worship a holy God. At most of our services\, we celebrate Holy Communion\, and if you are a baptized and believing Christian you are welcome to receive the bread and wine. Nursery is available and there is a special program for children during part of the service.
URL:https://hcanglican.org/event/traditional-worship-service-55/
LOCATION:Main Sanctuary\, 3836 Oak Grove Road\, Loganville\, GA\, 30052\, United States
CATEGORIES:Worship
END:VEVENT
BEGIN:VEVENT
DTSTART;TZID=America/New_York:20250112T102000
DTEND;TZID=America/New_York:20250112T110000
DTSTAMP:20260420T125214
CREATED:20241231T061709Z
LAST-MODIFIED:20241231T061709Z
UID:4021-1736677200-1736679600@hcanglican.org
SUMMARY:Spiritual Growth Classes
DESCRIPTION:Holy Cross offers classes designed to help us learn and grow in our daily walk with the Lord. There are classes for children\, teens\, and adults. You’re always welcome to jump into any class at any point of the season.
URL:https://hcanglican.org/event/spiritual-growth-classes-33/
LOCATION:Adult Wing\, 3836 Oak Grove Rd.\, Loganville\, GA\, 30052\, United States
CATEGORIES:Small Groups
END:VEVENT
BEGIN:VEVENT
DTSTART;TZID=America/New_York:20250112T111500
DTEND;TZID=America/New_York:20250112T122500
DTSTAMP:20260420T125214
CREATED:20241231T031117Z
LAST-MODIFIED:20250109T220205Z
UID:3608-1736680500-1736684700@hcanglican.org
SUMMARY:Contemporary Worship Service
DESCRIPTION:Our worship is liturgical. We participate in worship together. We sing together. We pray together. We read Scripture together. We confess our sins together. We take communion together. Our worship is guided by the time-tested liturgy of The Book of Common Prayer. Our worship is reverent as we worship a holy God. At most of our services\, we celebrate Holy Communion\, and if you are a baptized and believing Christian you are welcome to receive the bread and wine. Nursery is available and there is a special program for children during part of the service.
URL:https://hcanglican.org/event/contemporary-worship-service-53/
LOCATION:Main Sanctuary\, 3836 Oak Grove Road\, Loganville\, GA\, 30052\, United States
CATEGORIES:Worship
END:VEVENT
BEGIN:VEVENT
DTSTART;TZID=America/Chicago:20250112T124500
DTEND;TZID=America/Chicago:20250112T134500
DTSTAMP:20260420T125214
CREATED:20250111T161947Z
LAST-MODIFIED:20250111T161958Z
UID:4250-1736685900-1736689500@hcanglican.org
SUMMARY:Special Class: Loving your (Muslim) Neighbor
DESCRIPTION:Dan Omar\, our resident missionary arriving early 2025\, will be teaching a special class after the second service in the Sonshine Room of the Children’s Wing. A light lunch will be provided.
URL:https://hcanglican.org/event/special-class-loving-your-muslim-neighbor/
LOCATION:Son Shine Room\, 3836 Oak Grove Road\, Loganville\, GA\, 30052\, United States
CATEGORIES:Small Groups
END:VEVENT
BEGIN:VEVENT
DTSTART;TZID=America/New_York:20250113T190000
DTEND;TZID=America/New_York:20250113T203000
DTSTAMP:20260420T125214
CREATED:20241231T051701Z
LAST-MODIFIED:20241231T051701Z
UID:3747-1736794800-1736800200@hcanglican.org
SUMMARY:Lilburn/Stone Mountain Group
DESCRIPTION:Mondays\, 7:00 to 8:30 pm. Contact the church office for more information. parishadmin@hcanglican.org
URL:https://hcanglican.org/event/lilburn-stone-mountain-group-55/
LOCATION:GA
CATEGORIES:Small Groups
END:VEVENT
BEGIN:VEVENT
DTSTART;TZID=America/New_York:20250114T090000
DTEND;TZID=America/New_York:20250114T093000
DTSTAMP:20260420T125214
CREATED:20241231T055508Z
LAST-MODIFIED:20241231T055508Z
UID:3913-1736845200-1736847000@hcanglican.org
SUMMARY:Morning Prayer
DESCRIPTION:Daily Morning Prayer is the established rites by which\, both corporately and individually\, God’s people annually encounter the whole of the Holy Scriptures\, daily confess their sins and praise Almighty God\, and offer timely thanksgivings\, petitions\, and intercessions.
URL:https://hcanglican.org/event/morning-prayer-52/
LOCATION:Chapel\, 3836 Oak Grove Rd.\, Loganville\, GA\, 30052\, United States
CATEGORIES:Worship
END:VEVENT
BEGIN:VEVENT
DTSTART;TZID=America/New_York:20250114T090000
DTEND;TZID=America/New_York:20250114T120000
DTSTAMP:20260420T125214
CREATED:20241231T060909Z
LAST-MODIFIED:20250603T173310Z
UID:3981-1736845200-1736856000@hcanglican.org
SUMMARY:Parent's Day Out
DESCRIPTION:Holy Cross offers a two-day per week Parent’s Day Out program for children ages 1-4 on Tuesdays and Thursdays from 9:00 am through noon during the school year. In addition to serving families in our community\, we hope this ministry grows children in relationship with Jesus. During the summer\, PDO is one day a week on Tuesdays.
URL:https://hcanglican.org/event/parents-day-out-42/
LOCATION:GA
CATEGORIES:Children
END:VEVENT
BEGIN:VEVENT
DTSTART;TZID=America/New_York:20250115T063000
DTEND;TZID=America/New_York:20250115T073000
DTSTAMP:20260420T125214
CREATED:20241231T054309Z
LAST-MODIFIED:20241231T054309Z
UID:3852-1736922600-1736926200@hcanglican.org
SUMMARY:Men’s Bible Study
DESCRIPTION:All men are invited. Meets every Wednesday from 6:30 to 7:30 am.
URL:https://hcanglican.org/event/mens-bible-study-54/
LOCATION:Parlor\, 3836 Oak Grove Road\, Loganville\, GA\, 30052\, United States
CATEGORIES:Small Groups
END:VEVENT
BEGIN:VEVENT
DTSTART;TZID=America/New_York:20250115T102000
DTEND;TZID=America/New_York:20250115T115000
DTSTAMP:20260420T125214
CREATED:20241231T064709Z
LAST-MODIFIED:20241231T064709Z
UID:4175-1736936400-1736941800@hcanglican.org
SUMMARY:Women's Bible Study
DESCRIPTION:All women are invited. Meets in the Strickland Center every Wednesday from 10:20 to 11:50 am.
URL:https://hcanglican.org/event/womens-bible-study-45/
LOCATION:Strickland Student Center\, 3836 Oak Grove Road\, Loganville\, GA\, 30052\, United States
CATEGORIES:Small Groups
END:VEVENT
BEGIN:VEVENT
DTSTART;TZID=America/New_York:20250115T180000
DTEND;TZID=America/New_York:20250115T193000
DTSTAMP:20260420T125214
CREATED:20241231T035948Z
LAST-MODIFIED:20241231T035948Z
UID:3670-1736964000-1736969400@hcanglican.org
SUMMARY:Discipleship Connect
DESCRIPTION:
URL:https://hcanglican.org/event/discipleship-connect/
LOCATION:Main Sanctuary\, 3836 Oak Grove Road\, Loganville\, GA\, 30052\, United States
CATEGORIES:Small Groups
END:VEVENT
BEGIN:VEVENT
DTSTART;TZID=America/New_York:20250115T180000
DTEND;TZID=America/New_York:20250115T200000
DTSTAMP:20260420T125214
CREATED:20241231T041006Z
LAST-MODIFIED:20241231T041006Z
UID:3694-1736964000-1736971200@hcanglican.org
SUMMARY:Grayson Group
DESCRIPTION:Wednesdays\, 6:00 to 8:00 pm. Dinner and child care provided. Contact the church office for more information. parishadmin@hcanglican.org
URL:https://hcanglican.org/event/grayson-group-54/
LOCATION:GA
CATEGORIES:Small Groups
END:VEVENT
BEGIN:VEVENT
DTSTART;TZID=America/New_York:20250115T180000
DTEND;TZID=America/New_York:20250115T200000
DTSTAMP:20260420T125214
CREATED:20241231T065709Z
LAST-MODIFIED:20241231T065709Z
UID:4223-1736964000-1736971200@hcanglican.org
SUMMARY:Youth Gathering
DESCRIPTION:Wednesday Youth Gatherings open with snacks and free time for students to play ping-pong\, Ga-Ga ball\, basketball\, or a prepared game or group activity. Then we move into studying the Bible together. Lessons vary from month to month\, each involving student study of the Bible passage or verses. The evening ends in Small Groups (divided by gender and grade) for time to discuss\, process\, and pray with and for each other. Last Wednesdays of each month we have dinner and a fellowship night!
URL:https://hcanglican.org/event/youth-gathering-13/
LOCATION:Strickland Student Center\, 3836 Oak Grove Road\, Loganville\, GA\, 30052\, United States
CATEGORIES:Youth
ATTACH;FMTTYPE=image/jpeg:https://hcanglican.org/wp-content/uploads/2021/11/Youth-Night.jpg
END:VEVENT
BEGIN:VEVENT
DTSTART;TZID=America/New_York:20250116T090000
DTEND;TZID=America/New_York:20250116T120000
DTSTAMP:20260420T125214
CREATED:20241231T060909Z
LAST-MODIFIED:20250603T173310Z
UID:3982-1737018000-1737028800@hcanglican.org
SUMMARY:Parent's Day Out
DESCRIPTION:Holy Cross offers a two-day per week Parent’s Day Out program for children ages 1-4 on Tuesdays and Thursdays from 9:00 am through noon during the school year. In addition to serving families in our community\, we hope this ministry grows children in relationship with Jesus. During the summer\, PDO is one day a week on Tuesdays.
URL:https://hcanglican.org/event/parents-day-out-43/
LOCATION:GA
CATEGORIES:Children
END:VEVENT
BEGIN:VEVENT
DTSTART;TZID=America/New_York:20250117T120000
DTEND;TZID=America/New_York:20250117T123000
DTSTAMP:20260420T125214
CREATED:20241231T062709Z
LAST-MODIFIED:20241231T062709Z
UID:4071-1737115200-1737117000@hcanglican.org
SUMMARY:Stations of the Cross
DESCRIPTION:Open to everyone. Every Friday at noon.
URL:https://hcanglican.org/event/stations-of-the-cross-55/
LOCATION:Main Sanctuary\, 3836 Oak Grove Road\, Loganville\, GA\, 30052\, United States
CATEGORIES:Small Groups
END:VEVENT
BEGIN:VEVENT
DTSTART;TZID=America/New_York:20250118T073000
DTEND;TZID=America/New_York:20250118T090000
DTSTAMP:20260420T125214
CREATED:20241231T053111Z
LAST-MODIFIED:20241231T053111Z
UID:3800-1737185400-1737190800@hcanglican.org
SUMMARY:Loganville Group
DESCRIPTION:Men’s bible study. Meets at Haynes Creek Farm on Saturdays\, 7:30 to 9:00 am. Contact the church office for more information. parishadmin@hcanglican.org
URL:https://hcanglican.org/event/loganville-group-55/
LOCATION:GA
CATEGORIES:Small Groups
END:VEVENT
END:VCALENDAR