BEGIN:VCALENDAR
VERSION:2.0
PRODID:-//Holy Cross Anglican Cathedral - ECPv6.15.20//NONSGML v1.0//EN
CALSCALE:GREGORIAN
METHOD:PUBLISH
X-ORIGINAL-URL:https://hcanglican.org
X-WR-CALDESC:Events for Holy Cross Anglican Cathedral
REFRESH-INTERVAL;VALUE=DURATION:PT1H
X-Robots-Tag:noindex
X-PUBLISHED-TTL:PT1H
BEGIN:VTIMEZONE
TZID:America/New_York
BEGIN:DAYLIGHT
TZOFFSETFROM:-0500
TZOFFSETTO:-0400
TZNAME:EDT
DTSTART:20230312T070000
END:DAYLIGHT
BEGIN:STANDARD
TZOFFSETFROM:-0400
TZOFFSETTO:-0500
TZNAME:EST
DTSTART:20231105T060000
END:STANDARD
BEGIN:DAYLIGHT
TZOFFSETFROM:-0500
TZOFFSETTO:-0400
TZNAME:EDT
DTSTART:20240310T070000
END:DAYLIGHT
BEGIN:STANDARD
TZOFFSETFROM:-0400
TZOFFSETTO:-0500
TZNAME:EST
DTSTART:20241103T060000
END:STANDARD
BEGIN:DAYLIGHT
TZOFFSETFROM:-0500
TZOFFSETTO:-0400
TZNAME:EDT
DTSTART:20250309T070000
END:DAYLIGHT
BEGIN:STANDARD
TZOFFSETFROM:-0400
TZOFFSETTO:-0500
TZNAME:EST
DTSTART:20251102T060000
END:STANDARD
BEGIN:DAYLIGHT
TZOFFSETFROM:-0500
TZOFFSETTO:-0400
TZNAME:EDT
DTSTART:20260308T070000
END:DAYLIGHT
BEGIN:STANDARD
TZOFFSETFROM:-0400
TZOFFSETTO:-0500
TZNAME:EST
DTSTART:20261101T060000
END:STANDARD
END:VTIMEZONE
BEGIN:VEVENT
DTSTART;TZID=America/New_York:20241222T100000
DTEND;TZID=America/New_York:20241222T111000
DTSTAMP:20260420T081550
CREATED:20241001T164654Z
LAST-MODIFIED:20241029T181522Z
UID:3459-1734861600-1734865800@hcanglican.org
SUMMARY:Lessons & Carols
DESCRIPTION:Combined service at 10 am followed by a potluck.
URL:https://hcanglican.org/event/lessons-carols/
LOCATION:Main Sanctuary\, 3836 Oak Grove Road\, Loganville\, GA\, 30052\, United States
CATEGORIES:Worship
ATTACH;FMTTYPE=image/png:https://hcanglican.org/wp-content/uploads/2024/10/Lessons-and-Carols.png
END:VEVENT
BEGIN:VEVENT
DTSTART;TZID=America/New_York:20241223T190000
DTEND;TZID=America/New_York:20241223T203000
DTSTAMP:20260420T081550
CREATED:20240128T225411Z
LAST-MODIFIED:20240128T225411Z
UID:3019-1734980400-1734985800@hcanglican.org
SUMMARY:Lilburn/Stone Mountain Group
DESCRIPTION:Mondays\, 7:00 to 8:30 pm. Contact the church office for more information. parishadmin@hcanglican.org
URL:https://hcanglican.org/event/lilburn-stone-mountain-group-52/
LOCATION:GA
CATEGORIES:Small Groups
END:VEVENT
BEGIN:VEVENT
DTSTART;TZID=America/New_York:20241224T160000
DTEND;TZID=America/New_York:20241224T173000
DTSTAMP:20260420T081550
CREATED:20241001T164654Z
LAST-MODIFIED:20241029T164239Z
UID:3460-1735056000-1735061400@hcanglican.org
SUMMARY:Christmas Eve Service
DESCRIPTION:
URL:https://hcanglican.org/event/christmas-eve-service/
LOCATION:Main Sanctuary\, 3836 Oak Grove Road\, Loganville\, GA\, 30052\, United States
CATEGORIES:Worship
ATTACH;FMTTYPE=image/png:https://hcanglican.org/wp-content/uploads/2024/10/christmas-eve-banner.png
END:VEVENT
BEGIN:VEVENT
DTSTART;TZID=America/New_York:20241224T223000
DTEND;TZID=America/New_York:20241224T235900
DTSTAMP:20260420T081550
CREATED:20241001T164655Z
LAST-MODIFIED:20241001T164655Z
UID:3461-1735079400-1735084740@hcanglican.org
SUMMARY:Christmas Eve Service
DESCRIPTION:
URL:https://hcanglican.org/event/christmas-eve-service-2/
LOCATION:Main Sanctuary\, 3836 Oak Grove Road\, Loganville\, GA\, 30052\, United States
CATEGORIES:Worship
ATTACH;FMTTYPE=image/jpeg:https://hcanglican.org/wp-content/uploads/2024/10/Christmas-Eve-Candlelight-Service-HDTV-2.jpg
END:VEVENT
BEGIN:VEVENT
DTSTART;VALUE=DATE:20241225
DTEND;VALUE=DATE:20241226
DTSTAMP:20260420T081550
CREATED:20240127T173055Z
LAST-MODIFIED:20240127T175649Z
UID:2356-1735084800-1735171199@hcanglican.org
SUMMARY:Office Closed
DESCRIPTION:
URL:https://hcanglican.org/event/office-closed-8/
LOCATION:GA
END:VEVENT
BEGIN:VEVENT
DTSTART;VALUE=DATE:20241225
DTEND;VALUE=DATE:20241226
DTSTAMP:20260420T081550
CREATED:20240127T174645Z
LAST-MODIFIED:20240127T174645Z
UID:2407-1735084800-1735171199@hcanglican.org
SUMMARY:Christmas Day
DESCRIPTION:
URL:https://hcanglican.org/event/christmas-day/
LOCATION:GA
END:VEVENT
BEGIN:VEVENT
DTSTART;TZID=America/New_York:20241225T063000
DTEND;TZID=America/New_York:20241225T073000
DTSTAMP:20260420T081550
CREATED:20240128T024639Z
LAST-MODIFIED:20240129T193029Z
UID:2619-1735108200-1735111800@hcanglican.org
SUMMARY:Men’s Bible Study
DESCRIPTION:All men are invited. Meets every Wednesday from 6:30 to 7:30 am.
URL:https://hcanglican.org/event/mens-bible-study-52/
LOCATION:GA
CATEGORIES:Small Groups
END:VEVENT
BEGIN:VEVENT
DTSTART;VALUE=DATE:20241226
DTEND;VALUE=DATE:20241227
DTSTAMP:20260420T081550
CREATED:20240127T173155Z
LAST-MODIFIED:20240127T175749Z
UID:2357-1735171200-1735257599@hcanglican.org
SUMMARY:Office Closed
DESCRIPTION:
URL:https://hcanglican.org/event/office-closed-9/
LOCATION:GA
END:VEVENT
BEGIN:VEVENT
DTSTART;VALUE=DATE:20241227
DTEND;VALUE=DATE:20241228
DTSTAMP:20260420T081550
CREATED:20240127T173155Z
LAST-MODIFIED:20240127T175749Z
UID:2358-1735257600-1735343999@hcanglican.org
SUMMARY:Office Closed
DESCRIPTION:
URL:https://hcanglican.org/event/office-closed-10/
LOCATION:GA
END:VEVENT
BEGIN:VEVENT
DTSTART;TZID=America/New_York:20241227T120000
DTEND;TZID=America/New_York:20241227T123000
DTSTAMP:20260420T081550
CREATED:20240128T025739Z
LAST-MODIFIED:20240129T195143Z
UID:2670-1735300800-1735302600@hcanglican.org
SUMMARY:Stations of the Cross
DESCRIPTION:Open to everyone. Every Friday at noon.
URL:https://hcanglican.org/event/stations-of-the-cross-51/
LOCATION:Main Sanctuary\, 3836 Oak Grove Road\, Loganville\, GA\, 30052\, United States
CATEGORIES:Small Groups
END:VEVENT
BEGIN:VEVENT
DTSTART;TZID=America/New_York:20241227T180000
DTEND;TZID=America/New_York:20241227T203000
DTSTAMP:20260420T081550
CREATED:20240128T030842Z
LAST-MODIFIED:20240128T200506Z
UID:2728-1735322400-1735331400@hcanglican.org
SUMMARY:College-Age Group
DESCRIPTION:Our College Ministry currently focuses on a group Bible study and fellowship time designed for College-age young adults. Dinner begins at 6 pm. Contact tracie@hcanglican.org for more information and for the address (meets in Loganville).
URL:https://hcanglican.org/event/college-age-group-24/
LOCATION:GA
CATEGORIES:Youth
ATTACH;FMTTYPE=image/jpeg:https://hcanglican.org/wp-content/uploads/2023/09/typorama.jpeg
END:VEVENT
BEGIN:VEVENT
DTSTART;VALUE=DATE:20241228
DTEND;VALUE=DATE:20241229
DTSTAMP:20260420T081550
CREATED:20240127T173155Z
LAST-MODIFIED:20240127T175749Z
UID:2359-1735344000-1735430399@hcanglican.org
SUMMARY:Office Closed
DESCRIPTION:
URL:https://hcanglican.org/event/office-closed-11/
LOCATION:GA
END:VEVENT
BEGIN:VEVENT
DTSTART;TZID=America/New_York:20241228T073000
DTEND;TZID=America/New_York:20241228T090000
DTSTAMP:20260420T081550
CREATED:20240128T230511Z
LAST-MODIFIED:20240128T230511Z
UID:3072-1735371000-1735376400@hcanglican.org
SUMMARY:Loganville Group
DESCRIPTION:Men’s bible study. Meets at Haynes Creek Farm on Saturdays\, 7:30 to 9:00 am. Contact the church office for more information. parishadmin@hcanglican.org
URL:https://hcanglican.org/event/loganville-group-52/
LOCATION:GA
CATEGORIES:Small Groups
END:VEVENT
BEGIN:VEVENT
DTSTART;TZID=America/New_York:20241229T090000
DTEND;TZID=America/New_York:20241229T101000
DTSTAMP:20260420T081550
CREATED:20240124T175412Z
LAST-MODIFIED:20241029T181552Z
UID:2338-1735462800-1735467000@hcanglican.org
SUMMARY:Traditional Worship Service
DESCRIPTION:Our worship is liturgical. We participate in worship together. We sing together. We pray together. We read Scripture together. We confess our sins together. We take communion together. Our worship is guided by the time-tested liturgy of The Book of Common Prayer. Our worship is reverent as we worship a holy God. At most of our services\, we celebrate Holy Communion\, and if you are a baptized and believing Christian you are welcome to receive the bread and wine. Nursery is available and there is a special program for children during part of the service.
URL:https://hcanglican.org/event/traditional-worship-service-52/
LOCATION:Main Sanctuary\, 3836 Oak Grove Road\, Loganville\, GA\, 30052\, United States
CATEGORIES:Worship
END:VEVENT
BEGIN:VEVENT
DTSTART;TZID=America/New_York:20241229T111500
DTEND;TZID=America/New_York:20241229T122500
DTSTAMP:20260420T081550
CREATED:20240127T181539Z
LAST-MODIFIED:20241029T181600Z
UID:2468-1735470900-1735475100@hcanglican.org
SUMMARY:Contemporary Worship Service
DESCRIPTION:Our worship is liturgical. We participate in worship together. We sing together. We pray together. We read Scripture together. We confess our sins together. We take communion together. Our worship is guided by the time-tested liturgy of The Book of Common Prayer. Our worship is reverent as we worship a holy God. At most of our services\, we celebrate Holy Communion\, and if you are a baptized and believing Christian you are welcome to receive the bread and wine. Nursery is available and there is a special program for children during part of the service.
URL:https://hcanglican.org/event/contemporary-worship-service-50/
LOCATION:Main Sanctuary\, 3836 Oak Grove Road\, Loganville\, GA\, 30052\, United States
CATEGORIES:Worship
END:VEVENT
BEGIN:VEVENT
DTSTART;VALUE=DATE:20241230
DTEND;VALUE=DATE:20241231
DTSTAMP:20260420T081550
CREATED:20240127T173156Z
LAST-MODIFIED:20240127T175749Z
UID:2361-1735516800-1735603199@hcanglican.org
SUMMARY:Office Closed
DESCRIPTION:
URL:https://hcanglican.org/event/office-closed-13/
LOCATION:GA
END:VEVENT
BEGIN:VEVENT
DTSTART;TZID=America/New_York:20241230T190000
DTEND;TZID=America/New_York:20241230T203000
DTSTAMP:20260420T081550
CREATED:20240128T225412Z
LAST-MODIFIED:20240128T225412Z
UID:3020-1735585200-1735590600@hcanglican.org
SUMMARY:Lilburn/Stone Mountain Group
DESCRIPTION:Mondays\, 7:00 to 8:30 pm. Contact the church office for more information. parishadmin@hcanglican.org
URL:https://hcanglican.org/event/lilburn-stone-mountain-group-53/
LOCATION:GA
CATEGORIES:Small Groups
END:VEVENT
BEGIN:VEVENT
DTSTART;VALUE=DATE:20241231
DTEND;VALUE=DATE:20250101
DTSTAMP:20260420T081550
CREATED:20240127T173355Z
LAST-MODIFIED:20240127T173355Z
UID:2362-1735603200-1735689599@hcanglican.org
SUMMARY:Office Closed
DESCRIPTION:
URL:https://hcanglican.org/event/office-closed-14/
LOCATION:GA
END:VEVENT
BEGIN:VEVENT
DTSTART;TZID=America/New_York:20241231T180000
DTEND;TZID=America/New_York:20241231T180000
DTSTAMP:20260420T081550
CREATED:20241001T164754Z
LAST-MODIFIED:20241001T164754Z
UID:3464-1735668000-1735668000@hcanglican.org
SUMMARY:New Years Vigil
DESCRIPTION:
URL:https://hcanglican.org/event/new-years-vigil/
LOCATION:GA
ATTACH;FMTTYPE=image/jpeg:https://hcanglican.org/wp-content/uploads/2024/10/af3c5d_d822c40c8e8a43369743b94b55734727mv2_d_2192_1644_s_2.jpg
END:VEVENT
BEGIN:VEVENT
DTSTART;VALUE=DATE:20250101
DTEND;VALUE=DATE:20250102
DTSTAMP:20260420T081550
CREATED:20241001T164655Z
LAST-MODIFIED:20241001T164655Z
UID:3462-1735689600-1735775999@hcanglican.org
SUMMARY:Office Closed
DESCRIPTION:
URL:https://hcanglican.org/event/office-closed-16/
LOCATION:GA
END:VEVENT
BEGIN:VEVENT
DTSTART;TZID=America/New_York:20250101T102000
DTEND;TZID=America/New_York:20250101T115000
DTSTAMP:20260420T081550
CREATED:20241231T064709Z
LAST-MODIFIED:20241231T064709Z
UID:4173-1735726800-1735732200@hcanglican.org
SUMMARY:Women's Bible Study
DESCRIPTION:All women are invited. Meets in the Strickland Center every Wednesday from 10:20 to 11:50 am.
URL:https://hcanglican.org/event/womens-bible-study-43/
LOCATION:Strickland Student Center\, 3836 Oak Grove Road\, Loganville\, GA\, 30052\, United States
CATEGORIES:Small Groups
END:VEVENT
BEGIN:VEVENT
DTSTART;TZID=America/New_York:20250101T180000
DTEND;TZID=America/New_York:20250101T200000
DTSTAMP:20260420T081550
CREATED:20241231T041005Z
LAST-MODIFIED:20241231T041005Z
UID:3692-1735754400-1735761600@hcanglican.org
SUMMARY:Grayson Group
DESCRIPTION:Wednesdays\, 6:00 to 8:00 pm. Dinner and child care provided. Contact the church office for more information. parishadmin@hcanglican.org
URL:https://hcanglican.org/event/grayson-group-52/
LOCATION:GA
CATEGORIES:Small Groups
END:VEVENT
BEGIN:VEVENT
DTSTART;VALUE=DATE:20250102
DTEND;VALUE=DATE:20250103
DTSTAMP:20260420T081550
CREATED:20241001T164656Z
LAST-MODIFIED:20241001T164656Z
UID:3463-1735776000-1735862399@hcanglican.org
SUMMARY:Office Closed
DESCRIPTION:
URL:https://hcanglican.org/event/office-closed-17/
LOCATION:GA
END:VEVENT
BEGIN:VEVENT
DTSTART;VALUE=DATE:20250103
DTEND;VALUE=DATE:20250104
DTSTAMP:20260420T081550
CREATED:20241231T060510Z
LAST-MODIFIED:20241231T060510Z
UID:3964-1735862400-1735948799@hcanglican.org
SUMMARY:Office Closed
DESCRIPTION:
URL:https://hcanglican.org/event/office-closed-18/
LOCATION:GA
END:VEVENT
BEGIN:VEVENT
DTSTART;TZID=America/New_York:20250103T120000
DTEND;TZID=America/New_York:20250103T123000
DTSTAMP:20260420T081550
CREATED:20241231T062610Z
LAST-MODIFIED:20241231T062610Z
UID:4068-1735905600-1735907400@hcanglican.org
SUMMARY:Stations of the Cross
DESCRIPTION:Open to everyone. Every Friday at noon.
URL:https://hcanglican.org/event/stations-of-the-cross-52/
LOCATION:Main Sanctuary\, 3836 Oak Grove Road\, Loganville\, GA\, 30052\, United States
CATEGORIES:Small Groups
END:VEVENT
BEGIN:VEVENT
DTSTART;TZID=America/New_York:20250103T120000
DTEND;TZID=America/New_York:20250103T123000
DTSTAMP:20260420T081550
CREATED:20241231T062610Z
LAST-MODIFIED:20241231T062610Z
UID:4069-1735905600-1735907400@hcanglican.org
SUMMARY:Stations of the Cross
DESCRIPTION:Open to everyone. Every Friday at noon.
URL:https://hcanglican.org/event/stations-of-the-cross-53/
LOCATION:Main Sanctuary\, 3836 Oak Grove Road\, Loganville\, GA\, 30052\, United States
CATEGORIES:Small Groups
END:VEVENT
BEGIN:VEVENT
DTSTART;VALUE=DATE:20250104
DTEND;VALUE=DATE:20250105
DTSTAMP:20260420T081550
CREATED:20241231T060511Z
LAST-MODIFIED:20241231T060511Z
UID:3965-1735948800-1736035199@hcanglican.org
SUMMARY:Office Closed
DESCRIPTION:
URL:https://hcanglican.org/event/office-closed-19/
LOCATION:GA
END:VEVENT
BEGIN:VEVENT
DTSTART;TZID=America/New_York:20250104T073000
DTEND;TZID=America/New_York:20250104T090000
DTSTAMP:20260420T081550
CREATED:20241231T053110Z
LAST-MODIFIED:20241231T053110Z
UID:3798-1735975800-1735981200@hcanglican.org
SUMMARY:Loganville Group
DESCRIPTION:Men’s bible study. Meets at Haynes Creek Farm on Saturdays\, 7:30 to 9:00 am. Contact the church office for more information. parishadmin@hcanglican.org
URL:https://hcanglican.org/event/loganville-group-53/
LOCATION:GA
CATEGORIES:Small Groups
END:VEVENT
BEGIN:VEVENT
DTSTART;TZID=America/New_York:20250104T093000
DTEND;TZID=America/New_York:20250104T100000
DTSTAMP:20260420T081550
CREATED:20241231T035647Z
LAST-MODIFIED:20241231T035647Z
UID:3658-1735983000-1735984800@hcanglican.org
SUMMARY:Daughters of the Holy Cross
DESCRIPTION:
URL:https://hcanglican.org/event/daughters-of-the-holy-cross/
LOCATION:GA
CATEGORIES:Small Groups
END:VEVENT
BEGIN:VEVENT
DTSTART;TZID=America/New_York:20250105T090000
DTEND;TZID=America/New_York:20250105T101000
DTSTAMP:20260420T081550
CREATED:20241231T063709Z
LAST-MODIFIED:20241231T063709Z
UID:4121-1736067600-1736071800@hcanglican.org
SUMMARY:Traditional Worship Service
DESCRIPTION:Our worship is liturgical. We participate in worship together. We sing together. We pray together. We read Scripture together. We confess our sins together. We take communion together. Our worship is guided by the time-tested liturgy of The Book of Common Prayer. Our worship is reverent as we worship a holy God. At most of our services\, we celebrate Holy Communion\, and if you are a baptized and believing Christian you are welcome to receive the bread and wine. Nursery is available and there is a special program for children during part of the service.
URL:https://hcanglican.org/event/traditional-worship-service-54/
LOCATION:Main Sanctuary\, 3836 Oak Grove Road\, Loganville\, GA\, 30052\, United States
CATEGORIES:Worship
END:VEVENT
END:VCALENDAR