BEGIN:VCALENDAR
VERSION:2.0
PRODID:-//Holy Cross Anglican Cathedral - ECPv6.15.20//NONSGML v1.0//EN
CALSCALE:GREGORIAN
METHOD:PUBLISH
X-ORIGINAL-URL:https://hcanglican.org
X-WR-CALDESC:Events for Holy Cross Anglican Cathedral
REFRESH-INTERVAL;VALUE=DURATION:PT1H
X-Robots-Tag:noindex
X-PUBLISHED-TTL:PT1H
BEGIN:VTIMEZONE
TZID:America/New_York
BEGIN:DAYLIGHT
TZOFFSETFROM:-0500
TZOFFSETTO:-0400
TZNAME:EDT
DTSTART:20240310T070000
END:DAYLIGHT
BEGIN:STANDARD
TZOFFSETFROM:-0400
TZOFFSETTO:-0500
TZNAME:EST
DTSTART:20241103T060000
END:STANDARD
BEGIN:DAYLIGHT
TZOFFSETFROM:-0500
TZOFFSETTO:-0400
TZNAME:EDT
DTSTART:20250309T070000
END:DAYLIGHT
BEGIN:STANDARD
TZOFFSETFROM:-0400
TZOFFSETTO:-0500
TZNAME:EST
DTSTART:20251102T060000
END:STANDARD
BEGIN:DAYLIGHT
TZOFFSETFROM:-0500
TZOFFSETTO:-0400
TZNAME:EDT
DTSTART:20260308T070000
END:DAYLIGHT
BEGIN:STANDARD
TZOFFSETFROM:-0400
TZOFFSETTO:-0500
TZNAME:EST
DTSTART:20261101T060000
END:STANDARD
END:VTIMEZONE
BEGIN:VEVENT
DTSTART;TZID=America/New_York:20250430T063000
DTEND;TZID=America/New_York:20250430T073000
DTSTAMP:20260424T095554
CREATED:20241231T054609Z
LAST-MODIFIED:20241231T054609Z
UID:3867-1745994600-1745998200@hcanglican.org
SUMMARY:Men’s Bible Study
DESCRIPTION:All men are invited. Meets every Wednesday from 6:30 to 7:30 am.
URL:https://hcanglican.org/event/mens-bible-study-69/
LOCATION:Parlor\, 3836 Oak Grove Road\, Loganville\, GA\, 30052\, United States
CATEGORIES:Small Groups
END:VEVENT
BEGIN:VEVENT
DTSTART;TZID=America/New_York:20250430T102000
DTEND;TZID=America/New_York:20250430T115000
DTSTAMP:20260424T095554
CREATED:20241231T065009Z
LAST-MODIFIED:20241231T065009Z
UID:4190-1746008400-1746013800@hcanglican.org
SUMMARY:Women's Bible Study
DESCRIPTION:All women are invited. Meets in the Strickland Center every Wednesday from 10:20 to 11:50 am.
URL:https://hcanglican.org/event/womens-bible-study-60/
LOCATION:Strickland Student Center\, 3836 Oak Grove Road\, Loganville\, GA\, 30052\, United States
CATEGORIES:Small Groups
END:VEVENT
BEGIN:VEVENT
DTSTART;TZID=America/New_York:20250430T180000
DTEND;TZID=America/New_York:20250430T193000
DTSTAMP:20260424T095554
CREATED:20241231T040547Z
LAST-MODIFIED:20241231T040547Z
UID:3684-1746036000-1746041400@hcanglican.org
SUMMARY:Discipleship Connect
DESCRIPTION:
URL:https://hcanglican.org/event/discipleship-connect-15/
LOCATION:Main Sanctuary\, 3836 Oak Grove Road\, Loganville\, GA\, 30052\, United States
CATEGORIES:Small Groups
END:VEVENT
BEGIN:VEVENT
DTSTART;TZID=America/New_York:20250430T180000
DTEND;TZID=America/New_York:20250430T200000
DTSTAMP:20260424T095554
CREATED:20241231T041606Z
LAST-MODIFIED:20241231T041606Z
UID:3709-1746036000-1746043200@hcanglican.org
SUMMARY:Grayson Group
DESCRIPTION:Wednesdays\, 6:00 to 8:00 pm. Dinner and child care provided. Contact the church office for more information. parishadmin@hcanglican.org
URL:https://hcanglican.org/event/grayson-group-69/
LOCATION:GA
CATEGORIES:Small Groups
END:VEVENT
BEGIN:VEVENT
DTSTART;TZID=America/New_York:20250430T180000
DTEND;TZID=America/New_York:20250430T200000
DTSTAMP:20260424T095554
CREATED:20241231T070008Z
LAST-MODIFIED:20241231T070008Z
UID:4236-1746036000-1746043200@hcanglican.org
SUMMARY:Youth Gathering
DESCRIPTION:Wednesday Youth Gatherings open with snacks and free time for students to play ping-pong\, Ga-Ga ball\, basketball\, or a prepared game or group activity. Then we move into studying the Bible together. Lessons vary from month to month\, each involving student study of the Bible passage or verses. The evening ends in Small Groups (divided by gender and grade) for time to discuss\, process\, and pray with and for each other. Last Wednesdays of each month we have dinner and a fellowship night!
URL:https://hcanglican.org/event/youth-gathering-26/
LOCATION:Strickland Student Center\, 3836 Oak Grove Road\, Loganville\, GA\, 30052\, United States
CATEGORIES:Youth
ATTACH;FMTTYPE=image/jpeg:https://hcanglican.org/wp-content/uploads/2021/11/Youth-Night.jpg
END:VEVENT
END:VCALENDAR