BEGIN:VCALENDAR
VERSION:2.0
PRODID:-//Holy Cross Anglican Cathedral - ECPv6.15.20//NONSGML v1.0//EN
CALSCALE:GREGORIAN
METHOD:PUBLISH
X-ORIGINAL-URL:https://hcanglican.org
X-WR-CALDESC:Events for Holy Cross Anglican Cathedral
REFRESH-INTERVAL;VALUE=DURATION:PT1H
X-Robots-Tag:noindex
X-PUBLISHED-TTL:PT1H
BEGIN:VTIMEZONE
TZID:America/New_York
BEGIN:DAYLIGHT
TZOFFSETFROM:-0500
TZOFFSETTO:-0400
TZNAME:EDT
DTSTART:20240310T070000
END:DAYLIGHT
BEGIN:STANDARD
TZOFFSETFROM:-0400
TZOFFSETTO:-0500
TZNAME:EST
DTSTART:20241103T060000
END:STANDARD
BEGIN:DAYLIGHT
TZOFFSETFROM:-0500
TZOFFSETTO:-0400
TZNAME:EDT
DTSTART:20250309T070000
END:DAYLIGHT
BEGIN:STANDARD
TZOFFSETFROM:-0400
TZOFFSETTO:-0500
TZNAME:EST
DTSTART:20251102T060000
END:STANDARD
BEGIN:DAYLIGHT
TZOFFSETFROM:-0500
TZOFFSETTO:-0400
TZNAME:EDT
DTSTART:20260308T070000
END:DAYLIGHT
BEGIN:STANDARD
TZOFFSETFROM:-0400
TZOFFSETTO:-0500
TZNAME:EST
DTSTART:20261101T060000
END:STANDARD
END:VTIMEZONE
BEGIN:VEVENT
DTSTART;TZID=America/New_York:20250325T090000
DTEND;TZID=America/New_York:20250325T093000
DTSTAMP:20260424T035807
CREATED:20241231T055708Z
LAST-MODIFIED:20241231T055708Z
UID:3923-1742893200-1742895000@hcanglican.org
SUMMARY:Morning Prayer
DESCRIPTION:Daily Morning Prayer is the established rites by which\, both corporately and individually\, God’s people annually encounter the whole of the Holy Scriptures\, daily confess their sins and praise Almighty God\, and offer timely thanksgivings\, petitions\, and intercessions.
URL:https://hcanglican.org/event/morning-prayer-62/
LOCATION:Chapel\, 3836 Oak Grove Rd.\, Loganville\, GA\, 30052\, United States
CATEGORIES:Worship
END:VEVENT
BEGIN:VEVENT
DTSTART;TZID=America/New_York:20250325T090000
DTEND;TZID=America/New_York:20250325T120000
DTSTAMP:20260424T035807
CREATED:20241231T061309Z
LAST-MODIFIED:20250603T173812Z
UID:4001-1742893200-1742904000@hcanglican.org
SUMMARY:Parent's Day Out
DESCRIPTION:Holy Cross offers a two-day per week Parent’s Day Out program for children ages 1-4 on Tuesdays and Thursdays from 9:00 am through noon during the school year. In addition to serving families in our community\, we hope this ministry grows children in relationship with Jesus. During the summer\, PDO is one day a week on Tuesdays.
URL:https://hcanglican.org/event/parents-day-out-62/
LOCATION:GA
CATEGORIES:Children
END:VEVENT
BEGIN:VEVENT
DTSTART;TZID=America/New_York:20250325T120000
DTEND;TZID=America/New_York:20250325T130000
DTSTAMP:20260424T035807
CREATED:20250218T182157Z
LAST-MODIFIED:20250218T182157Z
UID:4359-1742904000-1742907600@hcanglican.org
SUMMARY:Annunciation Midweek Eucharist
DESCRIPTION:A service in commemoration of the Annunciation of our Lord Jesus Christ to the Virgin Mary.
URL:https://hcanglican.org/event/annunciation-midweek-eucharist/
LOCATION:Main Sanctuary\, 3836 Oak Grove Road\, Loganville\, GA\, 30052\, United States
CATEGORIES:Worship
ATTACH;FMTTYPE=image/jpeg:https://hcanglican.org/wp-content/uploads/2025/02/shutterstock_1211082202-2-oJPOZQ.tmp_.jpg
END:VEVENT
END:VCALENDAR