BEGIN:VCALENDAR
VERSION:2.0
PRODID:-//Holy Cross Anglican Cathedral - ECPv6.15.20//NONSGML v1.0//EN
CALSCALE:GREGORIAN
METHOD:PUBLISH
X-WR-CALNAME:Holy Cross Anglican Cathedral
X-ORIGINAL-URL:https://hcanglican.org
X-WR-CALDESC:Events for Holy Cross Anglican Cathedral
REFRESH-INTERVAL;VALUE=DURATION:PT1H
X-Robots-Tag:noindex
X-PUBLISHED-TTL:PT1H
BEGIN:VTIMEZONE
TZID:America/New_York
BEGIN:DAYLIGHT
TZOFFSETFROM:-0500
TZOFFSETTO:-0400
TZNAME:EDT
DTSTART:20230312T070000
END:DAYLIGHT
BEGIN:STANDARD
TZOFFSETFROM:-0400
TZOFFSETTO:-0500
TZNAME:EST
DTSTART:20231105T060000
END:STANDARD
BEGIN:DAYLIGHT
TZOFFSETFROM:-0500
TZOFFSETTO:-0400
TZNAME:EDT
DTSTART:20240310T070000
END:DAYLIGHT
BEGIN:STANDARD
TZOFFSETFROM:-0400
TZOFFSETTO:-0500
TZNAME:EST
DTSTART:20241103T060000
END:STANDARD
BEGIN:DAYLIGHT
TZOFFSETFROM:-0500
TZOFFSETTO:-0400
TZNAME:EDT
DTSTART:20250309T070000
END:DAYLIGHT
BEGIN:STANDARD
TZOFFSETFROM:-0400
TZOFFSETTO:-0500
TZNAME:EST
DTSTART:20251102T060000
END:STANDARD
END:VTIMEZONE
BEGIN:VEVENT
DTSTART;TZID=America/New_York:20241221T073000
DTEND;TZID=America/New_York:20241221T090000
DTSTAMP:20260420T062308
CREATED:20240128T230411Z
LAST-MODIFIED:20240128T230411Z
UID:3071-1734766200-1734771600@hcanglican.org
SUMMARY:Loganville Group
DESCRIPTION:Men’s bible study. Meets at Haynes Creek Farm on Saturdays\, 7:30 to 9:00 am. Contact the church office for more information. parishadmin@hcanglican.org
URL:https://hcanglican.org/event/loganville-group-51/
LOCATION:GA
CATEGORIES:Small Groups
END:VEVENT
BEGIN:VEVENT
DTSTART;TZID=America/New_York:20241221T110000
DTEND;TZID=America/New_York:20241221T120000
DTSTAMP:20260420T062308
CREATED:20240129T191729Z
LAST-MODIFIED:20240129T191729Z
UID:3090-1734778800-1734782400@hcanglican.org
SUMMARY:Women’s Ministry Group
DESCRIPTION:The Anglican Church Women\, all women are invited. Meets at the church on the 3rd Saturday of each month at 11:00 am.
URL:https://hcanglican.org/event/womens-ministry-group-12/
LOCATION:Parlor\, 3836 Oak Grove Road\, Loganville\, GA\, 30052\, United States
CATEGORIES:Small Groups
END:VEVENT
END:VCALENDAR